BEGIN:VCALENDAR
VERSION:2.0
PRODID:-//Verband der Restauratoren VDR - ECPv6.15.15//NONSGML v1.0//EN
CALSCALE:GREGORIAN
METHOD:PUBLISH
X-ORIGINAL-URL:https://www.restauratoren.de
X-WR-CALDESC:Veranstaltungen für Verband der Restauratoren VDR
REFRESH-INTERVAL;VALUE=DURATION:PT1H
X-Robots-Tag:noindex
X-PUBLISHED-TTL:PT1H
BEGIN:VTIMEZONE
TZID:Europe/Paris
BEGIN:DAYLIGHT
TZOFFSETFROM:+0100
TZOFFSETTO:+0200
TZNAME:CEST
DTSTART:20250330T010000
END:DAYLIGHT
BEGIN:STANDARD
TZOFFSETFROM:+0200
TZOFFSETTO:+0100
TZNAME:CET
DTSTART:20251026T010000
END:STANDARD
BEGIN:DAYLIGHT
TZOFFSETFROM:+0100
TZOFFSETTO:+0200
TZNAME:CEST
DTSTART:20260329T010000
END:DAYLIGHT
BEGIN:STANDARD
TZOFFSETFROM:+0200
TZOFFSETTO:+0100
TZNAME:CET
DTSTART:20261025T010000
END:STANDARD
BEGIN:DAYLIGHT
TZOFFSETFROM:+0100
TZOFFSETTO:+0200
TZNAME:CEST
DTSTART:20270328T010000
END:DAYLIGHT
BEGIN:STANDARD
TZOFFSETFROM:+0200
TZOFFSETTO:+0100
TZNAME:CET
DTSTART:20271031T010000
END:STANDARD
END:VTIMEZONE
BEGIN:VEVENT
DTSTART;VALUE=DATE:20260319
DTEND;VALUE=DATE:20260322
DTSTAMP:20260421T124722
CREATED:20260109T102524Z
LAST-MODIFIED:20260109T112541Z
UID:10002219-1773878400-1774137599@www.restauratoren.de
SUMMARY:RED Masterclass "Rissschließung 2.0 mit Petra Demuth"
DESCRIPTION:Veranstaltungstitel: Rissschließung 2.0 mit Petra Demuth \nDatum: 19.03-21.03.2026 \nMax. Teilnehmendenzahl: 12 \nVeranstaltungsort: RED – Restaurierungszentrum Düsseldorf\, Ehrenhof 3a\, 40479 Düsseldorf \nKosten: 450€ (keine Ermäßigungen) \n  \n2\,5 Tage Masterclass für 12 berufserfahrene Gemälderestaurator:innen \n  \nRisse\, Schnitte oder Fehlstellen in textilen Bildträgern stellen auch erfahrene Restaurator:innen vor die Herausforderung: Mit welcher minimal-invasiven Methode lässt sich die strukturelle Integrität des Gemäldes wiederherstellen? Dipl. Rest. Petra Demuth entwickelt seit über 25 Jahren innovative Antworten auf diese Frage und lehrt neueste Methoden und Techniken der Rissschließung im Rahmen internationaler Workshops. Nun kommt sie erstmalig auch ans RED\, um 12 erfahrenen Gemälderestaurator:innen durch theoretische Einführungen\, Live-Demonstrationen und praktische Übungen eine Bandbreite aktueller Techniken zu vermitteln: von Einzelfadenverklebungen über Faser-Bindemittel-Gemische bis hin zu Gewebeintarsien und Fadenbrücken. \n  \nDabei werden auch Vorgehensweisen zum kontrollierten Zusammenziehen von Rissrändern\, Möglichkeiten der Wiederverwebung originaler Fäden sowie unterschiedliche Verbindungs- und Verklebungstechniken in den Blick genommen. Die Ergebnisse der Übungen werden über einen großen Monitor gezeigt und gemeinsam besprochen. Ziel der Masterclass „Rissschließung 2.0“ ist der Aufbau und die Vertiefung von kritischem Wissen und manuellen Skills\, die Restaurator:innen benötigen\, um optimale Ergebnisse bei der Stabilisierung verletzter Bildträger zu erzielen. \nAlle Teilnehmenden erhalten einen eigenen Mikroskoparbeitsplatz. Probestücke sowie Geräte\, Instrumente und Materialien werden vor Ort gestellt. Gerne können Teilnehmende auch eigene Instrumente\, die sie zur Rissschließung verwenden\, mitbringen und der Gruppe vorstellen. \n  \nÜber die Kursleiterin \nDie Gemälderestauratorin Dipl. Rest. Petra Demuth arbeitet seit 2003 am Cologne Institute of Conservation Sciences (CICS) und doziert als Fachlehrerin im Studiengang „Restaurierung und Konservierung von Gemälden\, Skulpturen und moderner Kunst”. Vor dieser Lehrtätigkeit arbeitete sie als freiberufliche Gemälderestauratorin in Berlin und München in Zusammenarbeit mit öffentlichen Einrichtungen. Nach ihrem Studium am CICS (1990-1994) war sie von 1994 bis 2000 Assistentin von Professor Winfried Heiber in der Fachklasse für Kunsttechnologie\, Konservierung und Restaurierung von Malerei auf mobilen Bildträgern an der Hochschule für Bildende Künste Dresden. Mit Prof. Heiber hat sie auch die ersten Workshops zur Einzelfadenverklebung entwickelt. \n  \n  \nTeilnahmevoraussetzungen \nDer Workshop richtet sich an Restaurator:innen mit abgeschlossenem Hochschulstudium sowie einschlägiger Berufserfahrung. Nach Abschluss der Veranstaltung wird ein Teilnahmezertifikat ausgestellt. Die gesamte Veranstaltung findet in deutscher Sprache statt. \n  \nKontakt \nFragen richten Sie bitte an red-event(at)duesseldorf.de \nWeitere Informationen und Anmeldemöglichkeit
URL:https://www.restauratoren.de/termin/masterclass-rissschliessung-2-0/
CATEGORIES:Externe Veranstaltung
END:VEVENT
BEGIN:VEVENT
DTSTART;VALUE=DATE:20260319
DTEND;VALUE=DATE:20260322
DTSTAMP:20260421T124722
CREATED:20260303T101238Z
LAST-MODIFIED:20260303T101238Z
UID:10002263-1773878400-1774137599@www.restauratoren.de
SUMMARY:Symposium: Images of Renaissance Sovereignty
DESCRIPTION:The Conservation-Restoration Team for the Frescoes of the Prince’s Palace of Monaco is pleased to invite you to the symposium Images of Renaissance Sovereignty – Ten Years of Discoveries and Restoration of the Frescoes at the Prince’s Palace of Monaco\, which will be held on 19\, 20 and 21 March 2026 at the Oceanographic Museum and the Prince’s Palace. \nDuring this event\, we will have the pleasure of presenting the results of ten years of multidisciplinary research conducted at the Prince’s Palace\, in connection with the discovery and unearthing of an exceptional collection of late Renaissance frescoes. \nDiscover the programme of conferences\, discussions and demonstration workshops aimed at professionals\, institutions\, students and enthusiasts.\nAdmission is free\, but booking is required via the website https://www.visitepalaisdemonaco.com/colloquefresques/ \nThe conferences will be simultaneously translated (French\, Italian and English).
URL:https://www.restauratoren.de/termin/symposium-images-of-renaissance-sovereignty/
CATEGORIES:Externe Veranstaltung
END:VEVENT
END:VCALENDAR