BEGIN:VCALENDAR
VERSION:2.0
PRODID:-//Verband der Restauratoren VDR - ECPv6.15.15//NONSGML v1.0//EN
CALSCALE:GREGORIAN
METHOD:PUBLISH
X-WR-CALNAME:Verband der Restauratoren VDR
X-ORIGINAL-URL:https://www.restauratoren.de
X-WR-CALDESC:Veranstaltungen für Verband der Restauratoren VDR
REFRESH-INTERVAL;VALUE=DURATION:PT1H
X-Robots-Tag:noindex
X-PUBLISHED-TTL:PT1H
BEGIN:VTIMEZONE
TZID:Europe/Paris
BEGIN:DAYLIGHT
TZOFFSETFROM:+0100
TZOFFSETTO:+0200
TZNAME:CEST
DTSTART:20250330T010000
END:DAYLIGHT
BEGIN:STANDARD
TZOFFSETFROM:+0200
TZOFFSETTO:+0100
TZNAME:CET
DTSTART:20251026T010000
END:STANDARD
BEGIN:DAYLIGHT
TZOFFSETFROM:+0100
TZOFFSETTO:+0200
TZNAME:CEST
DTSTART:20260329T010000
END:DAYLIGHT
BEGIN:STANDARD
TZOFFSETFROM:+0200
TZOFFSETTO:+0100
TZNAME:CET
DTSTART:20261025T010000
END:STANDARD
BEGIN:DAYLIGHT
TZOFFSETFROM:+0100
TZOFFSETTO:+0200
TZNAME:CEST
DTSTART:20270328T010000
END:DAYLIGHT
BEGIN:STANDARD
TZOFFSETFROM:+0200
TZOFFSETTO:+0100
TZNAME:CET
DTSTART:20271031T010000
END:STANDARD
END:VTIMEZONE
BEGIN:VEVENT
DTSTART;TZID=Europe/Paris:20260331T123000
DTEND;TZID=Europe/Paris:20260331T143000
DTSTAMP:20260423T142253
CREATED:20260318T090441Z
LAST-MODIFIED:20260318T090441Z
UID:10002273-1774960200-1774967400@www.restauratoren.de
SUMMARY:Live-Restaurierung am PETRI Berlin
DESCRIPTION:Live-Restaurierung am PETRI Berlin\n\nTermin\nDi 31.03.2026 12:30 Uhr – 14:30 Uhr\nOrt:\n PETRI Berlin \nAngebot:\nExpert*innengespräch\n\n\nArchäologische Funde kommen oft stark beschädigt aus dem Boden oder sind von Zerfall bedroht. Sie zu sichern\, zu kitten und zu bewahren ist Aufgabe von Restauratorinnen und Restauratoren. Es gehört zum Arbeitsalltag am PETRI Berlin. \nAm Werkstatttisch in der Ausstellung zeigt ein angehender Experte von der Hochschule für Technik und Wirtschaft Berlin\, wie Restaurieren funktioniert. Er teilt sein Wissen und beantwortet Fragen. Aus nächster Nähe könnt ihr sehen\, wie ein originaler Fund bearbeitet wird\, welche Methoden und Werkzeuge zum Einsatz kommen und was die größten Herausforderungen sind. \nDer Werkstatttisch befindet sich vor der Restaurierungswerkstatt im 2. Geschoss. Kommt einfach vorbei\, ohne Anmeldung und jederzeit! \nDieses kostenlose Angebot richtet sich an Erwachsene und Kinder ab 6 Jahren.Erwachsene zahlen den regulären Eintritt in die Ausstellung: 6 Euro / ermäßigt 3 Euro.\nDer Eintritt ist für Kinder und Jugendliche bis 18 Jahre frei. \nKeine Anmeldung erforderlich.
URL:https://www.restauratoren.de/termin/live-restaurierung-am-petri-berlin/
CATEGORIES:Externe Veranstaltung
END:VEVENT
END:VCALENDAR