BEGIN:VCALENDAR
VERSION:2.0
PRODID:-//Verband der Restauratoren VDR - ECPv6.15.15//NONSGML v1.0//EN
CALSCALE:GREGORIAN
METHOD:PUBLISH
X-WR-CALNAME:Verband der Restauratoren VDR
X-ORIGINAL-URL:https://www.restauratoren.de
X-WR-CALDESC:Veranstaltungen für Verband der Restauratoren VDR
REFRESH-INTERVAL;VALUE=DURATION:PT1H
X-Robots-Tag:noindex
X-PUBLISHED-TTL:PT1H
BEGIN:VTIMEZONE
TZID:Europe/Paris
BEGIN:DAYLIGHT
TZOFFSETFROM:+0100
TZOFFSETTO:+0200
TZNAME:CEST
DTSTART:20250330T010000
END:DAYLIGHT
BEGIN:STANDARD
TZOFFSETFROM:+0200
TZOFFSETTO:+0100
TZNAME:CET
DTSTART:20251026T010000
END:STANDARD
BEGIN:DAYLIGHT
TZOFFSETFROM:+0100
TZOFFSETTO:+0200
TZNAME:CEST
DTSTART:20260329T010000
END:DAYLIGHT
BEGIN:STANDARD
TZOFFSETFROM:+0200
TZOFFSETTO:+0100
TZNAME:CET
DTSTART:20261025T010000
END:STANDARD
BEGIN:DAYLIGHT
TZOFFSETFROM:+0100
TZOFFSETTO:+0200
TZNAME:CEST
DTSTART:20270328T010000
END:DAYLIGHT
BEGIN:STANDARD
TZOFFSETFROM:+0200
TZOFFSETTO:+0100
TZNAME:CET
DTSTART:20271031T010000
END:STANDARD
END:VTIMEZONE
BEGIN:VEVENT
DTSTART;TZID=Europe/Paris:20260420T100000
DTEND;TZID=Europe/Paris:20260420T120000
DTSTAMP:20260423T071535
CREATED:20260404T113550Z
LAST-MODIFIED:20260404T113643Z
UID:10002280-1776679200-1776686400@www.restauratoren.de
SUMMARY:"Herrenberg-Urteil": Perspektiven für Museen und Selbstständige
DESCRIPTION:Der Arbeitskreis Bildung und Vermittlung und der Arbeitskreis Verwaltungsleitung im Deutschen Museumsbund laden in Kooperation mit dem Bundesverband Museumspädagogik (BVMP) zu einer Online‑Veranstaltung rund um Fragestellungen zum „Herrenberg‑Urteil“ ein.\n\n20.04.2026 von 10-12 Uhr online \nIn der Praxis herrscht derzeit viel Unsicherheit im Umgang mit dem „Herrenberg-Urteil“ und seinen Auswirkungen. Neben einer ersten juristischen Einordnung bietet die Online-Veranstaltung Raum für Fragen aus den Museen. Im Fokus stehen die Auswirkungen des Urteils auf Beschäftigungsverhältnisse in Museen – und damit auf die Zusammenarbeit mit selbständig Tätigen. Rechtsanwalt Dr. Robert Zeissig informiert über veränderte rechtliche Rahmenbedingungen und ordnet juristisch ein\, was das Urteil für Museen und Selbständige bedeutet. \nUm die Kernaufgaben des Museums zu erfüllen\, bedarf es im Bereich Bildung und Vermittlung der Möglichkeit\, sowohl mit abhängig Beschäftigten als auch mit selbstständig Tätigen zu arbeiten. Das „Herrenberg‑Urteil“ des Bundessozialgerichts (BSG) von 2022 sorgt bundesweit für Verunsicherung – auch in der Museumsszene. Dabei stellen sich zentrale Fragen\, die beide Seiten betreffen: Unter welchen Voraussetzungen ist eine weitere Zusammenarbeit von Museen und selbstständig Tätigen möglich? Wie muss selbstständige Tätigkeit gestaltet sein\, um sowohl arbeits‑ als auch sozialrechtlich als rechtssicher zu gelten? Welche Merkmale werden bei der Abgrenzung von Selbstständigkeit und sozialversicherungspflichtiger Beschäftigung zugrunde gelegt? Welche Kriterien werden von der Deutschen Rentenversicherung aktuell angewendet\, wie sieht es nach Ende 2027 aus? Was ist in der Interimszeit bis Ende 2027 zu beachten\, welche Regelungen greifen derzeit? \nDie Online‑Veranstaltung greift diese Fragen auf und ordnet die aktuelle (und zumindest graduell neue) Rechtsprechungslinie des BSG ein. Damit bietet sie eine erste rechtliche Orientierung; sie ersetzt jedoch keine individuelle Rechtsberatung. Weitere Online‑Veranstaltungen rund um das Thema sind geplant. \nWeitere Informationen
URL:https://www.restauratoren.de/termin/herrenberg-urteil-perspektiven-fuer-museen-und-selbststaendige/
CATEGORIES:Externe Veranstaltung
END:VEVENT
END:VCALENDAR