BEGIN:VCALENDAR
VERSION:2.0
PRODID:-//Verband der Restauratoren VDR - ECPv6.15.15//NONSGML v1.0//EN
CALSCALE:GREGORIAN
METHOD:PUBLISH
X-ORIGINAL-URL:https://www.restauratoren.de
X-WR-CALDESC:Veranstaltungen für Verband der Restauratoren VDR
REFRESH-INTERVAL;VALUE=DURATION:PT1H
X-Robots-Tag:noindex
X-PUBLISHED-TTL:PT1H
BEGIN:VTIMEZONE
TZID:Europe/Paris
BEGIN:DAYLIGHT
TZOFFSETFROM:+0100
TZOFFSETTO:+0200
TZNAME:CEST
DTSTART:20250330T010000
END:DAYLIGHT
BEGIN:STANDARD
TZOFFSETFROM:+0200
TZOFFSETTO:+0100
TZNAME:CET
DTSTART:20251026T010000
END:STANDARD
BEGIN:DAYLIGHT
TZOFFSETFROM:+0100
TZOFFSETTO:+0200
TZNAME:CEST
DTSTART:20260329T010000
END:DAYLIGHT
BEGIN:STANDARD
TZOFFSETFROM:+0200
TZOFFSETTO:+0100
TZNAME:CET
DTSTART:20261025T010000
END:STANDARD
BEGIN:DAYLIGHT
TZOFFSETFROM:+0100
TZOFFSETTO:+0200
TZNAME:CEST
DTSTART:20270328T010000
END:DAYLIGHT
BEGIN:STANDARD
TZOFFSETFROM:+0200
TZOFFSETTO:+0100
TZNAME:CET
DTSTART:20271031T010000
END:STANDARD
END:VTIMEZONE
BEGIN:VEVENT
DTSTART;VALUE=DATE:20260630
DTEND;VALUE=DATE:20260701
DTSTAMP:20260425T202300
CREATED:20260226T095921Z
LAST-MODIFIED:20260226T095921Z
UID:10002259-1782777600-1782863999@www.restauratoren.de
SUMMARY:Call for Papers: 2. Neustadter Hausforschungstage
DESCRIPTION:Die Untere Denkmalschutzbehörde der Stadtverwaltung Neustadt an der Weinstraße veranstaltet in Zusammenarbeit mit dem Arbeitskreis für Hausforschung (AHF) Regionalgruppe Südwest die \n\n Neustadter Hausforschungstage.\n\nDie zweitägige Veranstaltung findet am 13. und 14.  November 2026 in Neustadt statt. \n  \nGesucht werden aktuelle Themen aus dem Feld der historischen Hauforschung\, die in einem bebilderten Vortrag (Dauer ca. 20 – 25 Min) vorgestellt werden. Ein Honorar wird gezahlt\, für auswärtige Referenten wird zusätzlich eine Übernachtung übernommen. \nRäumlich ist das Vortragsthema beschränkt auf die historische Pfalz und das heutige Saarland. Zeitlich liegt die Grenze bei der Zeit um 1900. \nGefragt sind v.a. Themen aus den Bereichen Archäologie\, Architektur\, Bauforschung\, Geschichte\, Kunstgeschichte\, Restaurierung und Volkskunde. \nBitte senden Sie eine knappe Information zum Vortragsthema (max. 15 Zeilen) bis zum 30.06.2026 an uns. \nFür weitere Informationen wenden Sie sich bitte an die Untere Denkmalschutzbehörde Neustadt\, Rathausstraße 4\, 67433 Neustadt. Telefon: 06321 – 855- 1279.
URL:https://www.restauratoren.de/termin/call-for-papers-2-neustadter-hausforschungstage/
CATEGORIES:Call for Papers,Externe Veranstaltung
END:VEVENT
END:VCALENDAR