BEGIN:VCALENDAR
VERSION:2.0
PRODID:-//Verband der Restauratoren VDR - ECPv6.15.15//NONSGML v1.0//EN
CALSCALE:GREGORIAN
METHOD:PUBLISH
X-WR-CALNAME:Verband der Restauratoren VDR
X-ORIGINAL-URL:https://www.restauratoren.de
X-WR-CALDESC:Veranstaltungen für Verband der Restauratoren VDR
REFRESH-INTERVAL;VALUE=DURATION:PT1H
X-Robots-Tag:noindex
X-PUBLISHED-TTL:PT1H
BEGIN:VTIMEZONE
TZID:Europe/Paris
BEGIN:DAYLIGHT
TZOFFSETFROM:+0100
TZOFFSETTO:+0200
TZNAME:CEST
DTSTART:20250330T010000
END:DAYLIGHT
BEGIN:STANDARD
TZOFFSETFROM:+0200
TZOFFSETTO:+0100
TZNAME:CET
DTSTART:20251026T010000
END:STANDARD
BEGIN:DAYLIGHT
TZOFFSETFROM:+0100
TZOFFSETTO:+0200
TZNAME:CEST
DTSTART:20260329T010000
END:DAYLIGHT
BEGIN:STANDARD
TZOFFSETFROM:+0200
TZOFFSETTO:+0100
TZNAME:CET
DTSTART:20261025T010000
END:STANDARD
BEGIN:DAYLIGHT
TZOFFSETFROM:+0100
TZOFFSETTO:+0200
TZNAME:CEST
DTSTART:20270328T010000
END:DAYLIGHT
BEGIN:STANDARD
TZOFFSETFROM:+0200
TZOFFSETTO:+0100
TZNAME:CET
DTSTART:20271031T010000
END:STANDARD
END:VTIMEZONE
BEGIN:VEVENT
DTSTART;TZID=Europe/Paris:20260702T170000
DTEND;TZID=Europe/Paris:20260702T180000
DTSTAMP:20260425T002237
CREATED:20260203T094712Z
LAST-MODIFIED:20260203T094712Z
UID:10002245-1783011600-1783015200@www.restauratoren.de
SUMMARY:Zur Restaurierung eines Tafelklaviers von Johannes Zumpe\, 1766
DESCRIPTION:Am 02.07.2026 spricht Neo Leander Joris Schultz um 17 Uhr über die Restaurierung eines Tafelklaviers von Johannes Zumpe\, 1766. Nutzbarkeit\, Spielbarkeit und Lesbarkeit als Musikinstrument. \nNeo Leander Joris Schultz B.A. ist Restaurator für Holzobjekte in Köln. \nDas Instrument war im Laufe der Zeit durch falsche Besaitung stark verformt worden und ist entsprechend konservatorisch problematisch und zudem nicht spielbar.  Als musikhistorische und instrumentenbaugeschichtliche Quelle sollte es jedoch lesbar sein. Diese Gratwanderung durchlief die Diskussion um mögliche Konservierungs- und Restaurierungsmethoden. \nIm Vortrag wird schwerpunktmäßig der Hauptschaden vorgestellt\, das ist die gelöste Rahmenkonstruktion und der eingebrochene Resonanzboden. Die damit verbundenen Restaurierungsmöglichkeiten werden aufgezeigt und eine neu entwickelte Methode vorgestellt\, die in diesem Fall zur Sicherung erprobt wurde. \nDas Restaurierungskolloquium bietet am Technoseum in Mannheim seit 1988 eine Plattform für aktuelle Fragen\, die sich mit der Erhaltung und Bewahrung von Kunst- und Kulturgut beschäftigen. \nIm Jahr 2026 bewegen sich die Themen rund um die Frage\, ob und wie die Funktion von Objekten wieder hergestellt werden kann. \nDer Vortrag wird als Hybridveranstaltung in Mannheim und online stattfinden. \nEinwahl über die Internetseite des TECHNOSEUM www.technoseum.de \nBeginn: 17:00 Uhr \nEs ist keine Anmeldung notwendig!
URL:https://www.restauratoren.de/termin/zur-restaurierung-eines-tafelklaviers-von-johannes-zumpe-1766/
CATEGORIES:Externe Veranstaltung
END:VEVENT
BEGIN:VEVENT
DTSTART;VALUE=DATE:20260909
DTEND;VALUE=DATE:20260911
DTSTAMP:20260425T002237
CREATED:20260318T092602Z
LAST-MODIFIED:20260318T092602Z
UID:10002274-1788912000-1789084799@www.restauratoren.de
SUMMARY:Naturwissenschaftliche Kompetenz für zukunftsorientierte Denkmalpflege
DESCRIPTION:Das Institut für Diagnostik und Konservierung an Denkmalen in Sachsen und Sachsen-Anhalt e.V. feiert 2026 sein 30-jähriges Bestehen – ein besonderer Anlass\, um auf drei Jahrzehnte engagierter Arbeit zurückzublicken und zugleich den Blick in die Zukunft zu richten. \nZur Feier des Jubiläums llädt das IDK zu einer zweitägigen Fachtagung Naturwissenschaftliche Kompetenz für zukunftsorientierte Denkmalpflege vom 9. bis 10. September 2026 in die historischen Räumlichkeiten des Gasthofs „Zum Eichenkranz“ in Wörlitz ein. Gemeinsam mit unseren Partnern werden aktuelle Ergebnisse aus der Arbeit des IDK e.V. vorgestellt und diskutiert. \nWeitere Informationen
URL:https://www.restauratoren.de/termin/naturwissenschaftliche-kompetenz-fuer-zukunftsorientierte-denkmalpflege/
CATEGORIES:Externe Veranstaltung
END:VEVENT
BEGIN:VEVENT
DTSTART;VALUE=DATE:20260913
DTEND;VALUE=DATE:20260914
DTSTAMP:20260425T002237
CREATED:20260128T120602Z
LAST-MODIFIED:20260128T120923Z
UID:10002240-1789257600-1789343999@www.restauratoren.de
SUMMARY:Tag des offenen Denkmals 2026
DESCRIPTION:Der Tag des offenen Denkmals 2026 findet am Sonntag\, den 13. September 2026\, statt und steht unter dem Motto „NETZwerke: Denkmale & Infrastruktur“. Die zentrale Eröffnungsfeier wird in diesem Jahr in Bambeg auf dem Maximiliansplatz begangen. Veranstaltende können Ihre Aktionen zwischen April und Juni bei der Deutschen Stiftung Denkmalschutz (DSD) anmelden.  Für die Pressearbeit bittet die DSD schon vorab um Bildmaterial passend zum Motto. \nZum Motto \nWir alle werden von Netzwerken getragen: Ob familiär\, im Freundeskreis\, in Vereinen\, Kirchen oder beruflich – wir existieren nie allein\, sondern leben in Verbindung mit anderen\, die unser persönliches Netzwerk bilden. Aus diesen persönlichen Netzwerken entsteht die Gesellschaft\, in der wir leben und arbeiten. Sie ist das Netzwerk\, in dem wir uns im Land bewegen\, in dem wir Waren und Dienstleistungen\, vor allem aber Gedanken und Ideen austauschen\, um unser Dasein zu sichern und zu entwickeln. All diese Netzwerke formen und stützen unsere Identität – individuell und kollektiv. \nNetzwerke benötigen Infrastruktur – sonst wären sie nicht vernetzt. Knotenpunkte und ihre Verbindungen bilden diese Infrastruktur. Gebaut in Stein\, Beton oder Metall haben Menschen diese Infrastruktur entstehen und wachsen lassen – das macht sie zu Denkmalen\, die unsere täglichen Wege seit jeher mitbestimmen. Historische Konstruktionen\, die nicht nur ihren ideellen Zweck erfüllen\, uns Identität und außergewöhnliche Ästhetik schenken\, sondern teils auch aus praktischen Gründen gepflegt und erhalten werden sollten. Am Tag des offenen Denkmals 2026 wollen wir mit Ihnen gemeinsam zeigen\, wie Ihre Denkmale unsere Netzwerke tragen. \nHinweise für Veranstaltende gibt es hier: Für Veranstaltende | Tag des offenen Denkmals® \n  \n				\n		Vermittlungsbeispiel: Live-Restaurierung in Leipzig\, (c) Christian Hüller
URL:https://www.restauratoren.de/termin/tag-des-offenen-denkmals-2026/
CATEGORIES:Externe Veranstaltung
ATTACH;FMTTYPE=image/jpeg:https://www.restauratoren.de/wp-content/uploads/2026/01/DSD_Einstecker_Bundesweit_koordiniert_neg_RGB.jpg
END:VEVENT
BEGIN:VEVENT
DTSTART;VALUE=DATE:20260913
DTEND;VALUE=DATE:20260914
DTSTAMP:20260425T002237
CREATED:20260112T155339Z
LAST-MODIFIED:20260112T155339Z
UID:10002221-1789257600-1789343999@www.restauratoren.de
SUMMARY:Art in Transit 2.0 Symposium
DESCRIPTION:Das Art in Transit 2.0 Symposium wird am 13.09.2026 in Oslo stattfinden\, direkt vor der ICOM-CC Triennial Tagung in Oslo (14.-19. September 2026). Wir hoffen\, ein internationales\, multidisziplinäres Publikum anzusprechen und ein breites Spektrum an Sprechern zu bieten\, um einen regen Austausch bezüglich gemeinsamer Hürden und Chancen von „Art in Transit“ zu fördern. Symposiums-Sprache ist Englisch. Ein vorläufiges Programm steht bereits\, die Registrierung soll noch im Januar starten. \nFür mehr Informationen besuchen Sie gerne die Website: \nArt in Transit 2.0 Symposium \nSie möchten Updates zu Art in Transit bequem ins Email-Postfach? Einfach hier eintragen: \nRecieve updates on Art in transit 2.0 Symposium \nIm Namen des Organisations-Team freuen wir uns auf Sie!
URL:https://www.restauratoren.de/termin/art-in-transit-2-0-symposium/
CATEGORIES:Externe Veranstaltung
END:VEVENT
BEGIN:VEVENT
DTSTART;VALUE=DATE:20260914
DTEND;VALUE=DATE:20260919
DTSTAMP:20260425T002237
CREATED:20260421T083338Z
LAST-MODIFIED:20260421T083338Z
UID:10002284-1789344000-1789775999@www.restauratoren.de
SUMMARY:21st ICOM-CC Triennial Conference in Oslo
DESCRIPTION:The Norwegian National Organizing Committee for ICOM-CC 2026 welcomes you to the 21st ICOM-CC Triennial Conference in Oslo 14-18 September 2026. The conference will be accompanied by a broad program of events\, before and after the conference\, at venues throughout Norway. \nConservators\, scientists\, curators\, and other museum professionals are invited to experience “the Norwegian Miracle” – a phrase coined by Swiss curator and art historian Hans Ulrich Obrist. “The Norwegian Miracle” describes the recent revisioning of the cultural landscape of Oslo. For more than a decade\, a significant investment has been made into institutions dedicated to art\, cultural heritage\, and conservation in Oslo. The capital of Norway has become a truly cultural destination. Several major initiatives in Norway’s museum sector have resulted in The Munch Museum which opened in 2021\, the National Museum in 2022\, and the new Museum of the Viking Age\, scheduled for completion in 2026. These exceptional new museum buildings are driving the production of new knowledge and helping to strengthen the conservation field. \nOslo is a compact venue where events\, social programs\, and accommodation can be planned within walking distance of each other\, allowing more time for conference activities\, and for conversations and meetings. \nThe theme for the 2026 triennial conference is: Cultural Connections in Conservation. \nConference Website \nEarly bird prices until 15.05.2026
URL:https://www.restauratoren.de/termin/21st-icom-cc-triennial-conference-in-oslo/
CATEGORIES:Externe Veranstaltung
END:VEVENT
BEGIN:VEVENT
DTSTART;VALUE=DATE:20261007
DTEND;VALUE=DATE:20261010
DTSTAMP:20260425T002237
CREATED:20260415T191303Z
LAST-MODIFIED:20260422T082211Z
UID:10002282-1791331200-1791590399@www.restauratoren.de
SUMMARY:Save the Date: Workshop "Polsterkonservierung"
DESCRIPTION:Bildnachweis: Detail eines Polstermöbels. © Staatliche Schlösser und Gärten Baden-Württemberg. Foto: Paula Steinborn\, 2023.\n\n	Die Arbeitsgruppe Polster im VDR lädt vom 07.-09.10.2026 zum nächsten Workshop „Polsterkonservierung – Dokumentation und Erhaltung historischer Polsterungen“ ein. Unter Leitung von Nadine Kilchhofer findet die Veranstaltung diesmal in der Klassik Stiftung Weimar statt. \nDieser praxisorientierte Workshop vermittelt fundiertes Wissen zur Untersuchung\, Dokumentation und Konservierung historischer Polstermöbel. \n \nMit einer Einführung zum Aufbau von Polsterungen\, verwendeten Materialien und Techniken sowie der Entwicklung von Polsterungen vom 17. bis ins 20. Jahrhundert legen wir die Grundlage für Untersuchung\, Dokumentation und Einordnung von gepolsterten Museumsobjekten. Es werden Prinzipien und Methoden der Polsterkonservierung vermittelt\, ihre Möglichkeiten und Grenzen diskutiert. \nAn historischen Polstermöbeln können das Untersuchen\, Dokumentieren und das Erstellen von Konservierungskonzepten praktisch umgesetzt und geübt werden. \nDer Workshop richtet sich an Restaurator:innen\, die mit historischen Polstermöbeln in Museen und Sammlungen arbeiten. \nMerken Sie sich jetzt schon den Termin vor. Weitere Infos folgen…\n	Partner \nDie Veranstaltung wird vom VDR mit freundlicher Unterstützung der Klassik Stiftung Weimar ausgerichtet.
URL:https://www.restauratoren.de/termin/workshop-polsterkonservierung-2026/
LOCATION:Klassik Stiftung Weimar\, Ettersburger Straße 63\, Weimar\, Thüringen\, 99427\, Germany
CATEGORIES:AG Polster,FG Textil,Save the Date,VDR-Veranstaltung,VDR-Weiterbildung,Workshop
ATTACH;FMTTYPE=image/jpeg:https://www.restauratoren.de/wp-content/uploads/2025/03/Titel_Polster_Workshop_2025_©SSG_Foto_Paula_Steinborn_2023-scaled.jpg
ORGANIZER;CN="VDR":MAILTO:veranstaltungen@restauratoren.de
END:VEVENT
BEGIN:VEVENT
DTSTART;VALUE=DATE:20261007
DTEND;VALUE=DATE:20261010
DTSTAMP:20260425T002237
CREATED:20260317T104133Z
LAST-MODIFIED:20260317T122917Z
UID:10002271-1791331200-1791590399@www.restauratoren.de
SUMMARY:Nachwuchs gesucht! Zukunft Restaurierung
DESCRIPTION:Die Herbsttagung des Arbeitskreises Konservierung / Restaurierung im Deutschen Museums­bund lädt vom 7. bis 9. Oktober 2026 ins Bayerische Nationalmuseum München ein. Ziel der Tagung ist es\, gemeinsam mit dem Verband der Restaurator:innen (VDR) zu beleuchten\, in welchen Bereichen Nachwuchsmangel herrscht\, woran das liegt und welche Strategien nachhaltig und wirkungsvoll helfen können. Weitere Details folgen. \n 
URL:https://www.restauratoren.de/termin/nachwuchs-gesucht-zukunft-restaurierung/
LOCATION:Bayerisches Nationalmuseum\, Oettingenstraße 15\, München\, Bayern\, 80538
CATEGORIES:Save the Date,VDR-Partnerveranstaltung
GEO:48.1435088;11.5927376
X-APPLE-STRUCTURED-LOCATION;VALUE=URI;X-ADDRESS=Bayerisches Nationalmuseum Oettingenstraße 15 München Bayern 80538;X-APPLE-RADIUS=500;X-TITLE=Oettingenstraße 15:geo:11.5927376,48.1435088
END:VEVENT
BEGIN:VEVENT
DTSTART;VALUE=DATE:20261008
DTEND;VALUE=DATE:20261009
DTSTAMP:20260425T002237
CREATED:20260317T100258Z
LAST-MODIFIED:20260317T100258Z
UID:10002270-1791417600-1791503999@www.restauratoren.de
SUMMARY:3. KEK-Tagung
DESCRIPTION:Am 8. Oktober 2026 laden wir Sie herzlich zur 3. KEK-Tagung ein\, bei der die gemeinsamen Handlungsfelder von Kulturgutschutz und Demokratiesicherung beleuchtet werden. \nIn Gedächtniseinrichtungen lagern gefährdete Originale\, die Meinungsvielfalt\, Rechtsordnungen\, historische Entwicklungen und politisches Handeln dokumentieren. Der Schutz dieser Überlieferungen ist Grundvoraussetzung für eine quellen- und faktenbasierte Forschung\, eine historische Aufarbeitung sowie die Sichtbarmachung gesellschaftlicher Mehrstimmigkeit. Daher ist der Originalerhalt ein wichtiger Beitrag zu einer lebendigen\, urteilsfähigen und wehrhaften Demokratie.
URL:https://www.restauratoren.de/termin/3-kek-tagung/
CATEGORIES:Externe Veranstaltung
END:VEVENT
BEGIN:VEVENT
DTSTART;VALUE=DATE:20261018
DTEND;VALUE=DATE:20261019
DTSTAMP:20260425T002237
CREATED:20260128T143338Z
LAST-MODIFIED:20260317T100906Z
UID:10002243-1792281600-1792367999@www.restauratoren.de
SUMMARY:9. Europäischer Tag der Restaurierung
DESCRIPTION:Mit Fachwissen und Leidenschaft bewahren Restauratorinnen und Restauratoren unser gemeinsames europäisches Kulturerbe. Wie sie das tun\, zeigen sie am 18. Oktober 2025 – beim 9. Europäischen Tag der Restaurierung.\n  \nIn ganz Europa laden die Restauratorenverbände zum Europäischen Tag der Restaurierung ein mit Programm in den Ateliers und auf den Baustellen. Ausgerufen wird der Aktionstag jährlich von der Europäischen Vereinigung der Restauratorenverbände E.C.C.O.. In Deutschland organisiert der Verband der Restaurator:innen (VDR) den Tag. \nRestaurator:innen und Institutionen\, die sich beteiligen möchten\, können ihre Aktionen ab April unter Mitmachen – Tag der Restaurierung registrieren. \n 
URL:https://www.restauratoren.de/termin/9-europaeischer-tag-der-restaurierung/
CATEGORIES:Save the Date,VDR-Veranstaltung
ATTACH;FMTTYPE=image/png:https://www.restauratoren.de/wp-content/uploads/2026/01/StD_ETDR2026.png
ORGANIZER;CN="Verband der Restaurator%3Ainnen (VDR) e. V.":MAILTO:veranstaltungen@restauratoren.de
END:VEVENT
BEGIN:VEVENT
DTSTART;VALUE=DATE:20261105
DTEND;VALUE=DATE:20261108
DTSTAMP:20260425T002237
CREATED:20260128T121909Z
LAST-MODIFIED:20260128T143554Z
UID:10002241-1793836800-1794095999@www.restauratoren.de
SUMMARY:Messe denkmal
DESCRIPTION:Vom 5.- 7. November 2026 öffnet die denkmal in Leipzig erneut ihre Tore. Dann trifft sich die nationale und internationale Fachwelt auf der Europäischen Leitmesse für Denkmalpflege\, Restaurierung und Altbausanierung. Der Verband der Restaurator:innen (VDR) ist als ideeller Träger wieder aktiv mit dabei. \nMerken Sie sich den Termin schon jetzt vor. Der VDR wird vor Ort sein 25jähriges Bestehen feiern\, ein spannendes Rahmenprogramm anbieten und zur Mitgliederversammlung einladen. \nSchwerpunktthemen der Messe werden sein: \n\nDenkmalvermittlung und baukulturelle Bildung\nKlimaschutz und Nachhaltigkeit\nBauen im Bestand\nDigitalisierung und Technologien\nSchutz des kulturellen Erbes in Notfallsituationen\n\nErgänzt wird das Angebot der denkmal durch die Fachmesse Lehmbau \, den Ausstellungsbereich Archäologie und die MUTEC (5. – 6. November 2026).
URL:https://www.restauratoren.de/termin/messe-denkmal/
LOCATION:Leipziger Messe\, Messe-Allee 1 \, Leipzig\, Sachsen\, 04356 \, Deutschland
CATEGORIES:VDR-Mitgliederversammlung,VDR-Partnerveranstaltung
ATTACH;FMTTYPE=image/png:https://www.restauratoren.de/wp-content/uploads/2026/01/denkmal2026.png
GEO:51.3956534;12.3992432
X-APPLE-STRUCTURED-LOCATION;VALUE=URI;X-ADDRESS=Leipziger Messe Messe-Allee 1  Leipzig Sachsen 04356  Deutschland;X-APPLE-RADIUS=500;X-TITLE=Messe-Allee 1:geo:12.3992432,51.3956534
END:VEVENT
END:VCALENDAR