BEGIN:VCALENDAR
VERSION:2.0
PRODID:-//Verband der Restauratoren VDR - ECPv6.15.15//NONSGML v1.0//EN
CALSCALE:GREGORIAN
METHOD:PUBLISH
X-ORIGINAL-URL:https://www.restauratoren.de
X-WR-CALDESC:Veranstaltungen für Verband der Restauratoren VDR
REFRESH-INTERVAL;VALUE=DURATION:PT1H
X-Robots-Tag:noindex
X-PUBLISHED-TTL:PT1H
BEGIN:VTIMEZONE
TZID:UTC
BEGIN:STANDARD
TZOFFSETFROM:+0000
TZOFFSETTO:+0000
TZNAME:UTC
DTSTART:20170101T000000
END:STANDARD
END:VTIMEZONE
BEGIN:VEVENT
DTSTART;VALUE=DATE:20180713
DTEND;VALUE=DATE:20180715
DTSTAMP:20260425T060732
CREATED:20180602T083732Z
LAST-MODIFIED:20180607T133732Z
UID:10001029-1531440000-1531612799@www.restauratoren.de
SUMMARY:Exkursion zur Themenreihe "Zierrahmen" der Fachgruppe Gemälde
DESCRIPTION:Zur Fortführung der Themenreihe zu Zierrahmen lädt die Fachgruppe Gemälde herzlich zu einer Exkursion am 13. und 14.07.2018 nach München ein. Die Veranstaltung findet in Kooperation mit Werner Murrer statt\, der sich dankenswerterweise bereit erklärt\, die Veranstaltung in den Räumen seiner Firma Werner Murrer Rahmen durchzuführen. \n \n  \nProgramm \nAm Freitag\, 13.07.\, 10–17 Uhr ist eine Werkstattführung mit Vortrag bzw. ein Austausch zum Thema Rahmen geplant.\nEine allgemeine Einführung zu Charakteristika bestimmter Zeiten und Stile\, kann durch den reichen Rahmenfundus Werner Murrers direkt veranschaulicht werden. Herr Murrer und sein Team lassen die Teilnehmer exemplarisch an Entscheidungsprozessen teilhaben\, bei denen Um- bzw. Neurahmungen vorgenommen wurden. Angesprochen werden hier Aspekte der Rückführung bzw. Rekonstruktion\, aber auch Gründe für die Modifizierung vorhandener Rahmungen.\nEinen weiteren Komplex in diesem Zusammenhang stellt die sachgemäße Einrahmung aus konservatorischer Sicht dar. Hierzu ist ein allgemeiner Austausch zu heutigen Anforderungen\, wie Falzauskleidung\, Verglasung\, Aufdopplung und Rückseitenschutz angedacht. Herr Murrer bietet auf Wunsch an\, dass 1–3 aktuelle Fallbeispiele zur Projektvorbereitung besprochen werden können (beispielsweise zu Paul Klee\, Wassily Kandinsky). Wenn Sie uns bei Ihrer Anmeldung konkrete Fragestellungen mitteilen\, leiten wir diese gern an Herrn Murrer weiter\, so dass er sich darauf vorbereiten kann. \nAm Samstag\, 14.07.\, ca. 10–14 Uhr nimmt sich Werner Murrer die Zeit\, für einen gemeinsamen Ausstellungsbesuch\, bei dem er das Thema anhand von Beispielen weiter veranschaulichen kann. Der genaue Ort wird hier in Abhängigkeit vom aktuellen Ausstellungsangebot und Projekten von Herrn Murrer festgelegt und den Teilnehmern kurz vor Beginn der Veranstaltung kommuniziert. \n  \nAnmeldung und Preise \n\nDie Veranstaltung ist ausgebucht! \nDie Anzahl der Teilnehmer ist auf 18 Personen begrenzt.\nDie Reihenfolge der Anmeldungen entscheidet über die Teilnahme. \nWir bitten um Verständnis\, dass diese Veranstaltung zunächst ausschließlich für Ordentliche Mitglieder der Fachgruppe Gemälde des VDR angeboten wird. Eine Erweiterung des Personenkreises wird stattfinden\, falls zum Ende der Anmeldefrist noch freie Plätze zu vergeben sind\, die wir dann ggf. bewerben werden. Bei entsprechendem Feedback kann sich die Fachgruppe eine mögliche Wiederholung der Veranstaltung vorstellen. \nMit Absenden des Anmeldeformulars ist Ihre Anmeldung verbindlich. Sie erhalten anschließend von der Fachgruppe eine Registrierungsbestätigung an die von Ihnen angegebene E-Mail-Adresse.\n\nDer Unkostenbeitrag von 20\,00 € wird vor Ort in bar gezahlt und beinhaltet auch eine Verköstigung am Freitag (neben Kaffee und Kuchen wird auch ein kleiner Mittagssnack angeboten). Eintrittspreise am Samstag sind nicht enthalten (die Fachgruppe wird versuchen einen Gruppenrabatt / freien Eintritt für VDR-Mitglieder zu erwirken – bitte bringen Sie ihren Verbandsausweis zur Veranstaltung mit).\nAus organisatorischen Gründen bitten wir darum\, bei der Anmeldung mitzuteilen\, ob eine Teilnahme an dem Museumsbesuch am 14.07. gewünscht ist. \n  \nAnreise und Übernachtung \nDie Anreise und Unterbringung findet selbstorganisiert statt. Bei Anmeldungsbestätigung gibt Ihnen die Fachgruppe gern Unterkunftsempfehlungen. \n  \nVeranstaltungsort \nWERNER MURRER RAHMEN\nZennerstraße 6 / RGB\n81379 München \n  \nKontakt \nBei Fragen melden Sie sich bitte bei der VDR Fachgruppe Gemälde unter gemaelde(at)restauratoren.de \n  \nPartner
URL:https://www.restauratoren.de/termin/exkursion-zur-themenreihe-zierrahmen-der-fachgruppe-gemaelde/
LOCATION:Werner Murrer Rahmen\, Zennerstraße 6\, München\, 81379\, Deutschland
CATEGORIES:FG Gemälde,VDR-Veranstaltung
ATTACH;FMTTYPE=:
GEO:48.1031746;11.5424018
X-APPLE-STRUCTURED-LOCATION;VALUE=URI;X-ADDRESS=Werner Murrer Rahmen Zennerstraße 6 München 81379 Deutschland;X-APPLE-RADIUS=500;X-TITLE=Zennerstraße 6:geo:11.5424018,48.1031746
END:VEVENT
BEGIN:VEVENT
DTSTART;VALUE=DATE:20180716
DTEND;VALUE=DATE:20180720
DTSTAMP:20260425T060732
CREATED:20180604T095719Z
LAST-MODIFIED:20180619T093058Z
UID:10001036-1531699200-1532044799@www.restauratoren.de
SUMMARY:Workshop with Prof. Wolbers about general cleaning
DESCRIPTION:The Swiss Association for Conservation & Restoration in collaboration with the Museum der Kulturen Basel organizes in July\, 16th-19th\, 2018 another workshop with Prof. Dr. Richard Wolbers in Basel.\nThe workshop treats the cleaning of a wide range of materials and is addressed to colleagues of all specializations which deal with the conservation and restoration of art and cultural heritage objects. The four-day workshop consists of lectures and practical work and will be held in English. \nFurther information/ programme \nNote: There is an reduced fee for VDR-members. \nHinweis: Reduzierter Teilnahmebetrag für VDR-Mitglieder.\nRegistration deadline extended until 29.6.2018.
URL:https://www.restauratoren.de/termin/workshop-with-prof-wolbers-about-general-cleaning/
CATEGORIES:Externe Veranstaltung
END:VEVENT
BEGIN:VEVENT
DTSTART;VALUE=DATE:20180719
DTEND;VALUE=DATE:20180720
DTSTAMP:20260425T060732
CREATED:20180706T062324Z
LAST-MODIFIED:20180706T062324Z
UID:10001055-1531958400-1532044799@www.restauratoren.de
SUMMARY:Präsentation der Diplomarbeiten 2018 HfbK Dresden
DESCRIPTION:Am 19. Juli 2018 werden die Diplomarbeiten im Studiengang Kunsttechnologie\, Konservierung und Restaurierung von Kunst- und Kulturgut der HfbK Dresden öffentlich präsentiert. \nWeitere Informationen
URL:https://www.restauratoren.de/termin/praesentation-der-diplomarbeiten-2018-hfbk-dresden/
CATEGORIES:Externe Veranstaltung
END:VEVENT
BEGIN:VEVENT
DTSTART;VALUE=DATE:20180727
DTEND;VALUE=DATE:20180730
DTSTAMP:20260425T060732
CREATED:20180614T155923Z
LAST-MODIFIED:20180614T160606Z
UID:10001043-1532649600-1532908799@www.restauratoren.de
SUMMARY:Workshop "Herstellung eines Holzdeckeleinbandes"
DESCRIPTION:Der Förderkreis Konservierung Restaurierung e.V. bietet in diesem Jahr mehrere Termine für jeweils vier bis sechs Teilnehmer für einen Workshop „Herstellung eines Holzdeckeleinbandes“ an.\n \nTermine 2018:\n27. Juli bis 29. Juli\n21. September bis 23. September\n16. November bis 18. November (andere Termine nach Absprache möglich)\nOrt: Auw bei Prüm \nDieses Seminar bietet:\n– Kurze theoretische Einführung in die Grundlagen der Holzbearbeitung und das Hantieren mit den Werkzeugen.\n– Praktische Übungen mit Holz und den dafür benötigten Werkzeugen.\n– Besprechung über die Möglichkeiten der Restaurierung eines Holzdeckels (Gastsprecher Heinz-Peter Gilson\, Schreinermeister) \nZeitplan:\nFreitag: Ankommen/Kennenlernen ab 15 Uhr möglich\nSeminarbeginn 17 Uhr Besprechung/\nAbendessen19 Uhr\nab 20 Uhr selbständiges Arbeiten bis max. 22 Uhr \nSamstag: Frühstück 8 Uhr\nSeminarbeginn 9 Uhr\nMittagessen 13 Uhr\nSeminarbeginn 14 Uhr\nAbendessen 18 Uhr\nab 19 Uhr Besprechung/selbständiges Arbeiten bis max. 22 Uhr \nSonntag: Frühstück 8 Uhr\nSeminarbeginn 9 Uhr\nMittagessen 13 Uhr\nSeminarende 14 Uhr \nDie Teilnehmer sollten einen auf 3 oder 4 Doppelbünde gehefteten Buchblock in der Größe 20 x 14\,5 cm und mindestens 3 cm\, höchstens 6 cm Dicke mitbringen. Hochformat. \nKursgebühr: 300\,00 €\nMaterialkosten: Besondere Materialien werden nach Verbrauch abgerechnet. Im Preis sind ein Satz Holzdeckel enthalten sowie das Leder für den Rücken. \nSeminarleiter: Martinus Janssen\, Buchbinder (weitere Informationen auf der Website des Förderkreises) \nTeilnehmer: Buchbinder/Restauratoren\, Auszubildende/Studenten in diesem Bereich oder Interessenten mit Vorkenntnissen \nSeminarort: Laudesfeld 3\, 54597 Auw bei Prüm\, Tel.: 06552-991370 \nSprache: Deutsch und/oder Niederländisch \nAnmeldung: beim FKR Förderkreis Konservierung Restaurierung unter post(at)fkr-verein.de oder 02652/938070\nDie Anmeldung ist mit Eingang der Kursgebühr von 300 Euro auf folgendes Konto gültig:\nIBAN: DE 8237 0501 9819 3319 3904\nBIC: COLSDE33\nVerwendungszweck: Kurs Holzdeckeleinband \nAnreise: Für die Anreise mit der Bahn ist der Bahnhof Dahlem/Eifel das Reiseziel. Teilnehmer können nach Absprache am Bahnhof abgeholt werden.\nDie Unterbringung im Seminarhaus ist möglich. Es stehen 3 Zweibettzimmer für 85€ pro Person für die Dauer des Wochenendseminars zur Verfügung inklusive Verpflegung. Bettbezüge und Spannbettlaken müssen mitgebracht werden\, ebenso Handtücher.\nAlternative Übernachtungsmöglichkeiten: Jugendherberge Prüm (22 km)\, Pension/ Hotel in Auw (4 Km) oder Bleialf (10km).
URL:https://www.restauratoren.de/termin/workshop-herstellung-eines-holzdeckeleinbandes/
LOCATION:Auw bei Prüm\, Laudesfeld 3\, Auw bei Prüm\, 54597\, Deutschland
CATEGORIES:Externe Veranstaltung
END:VEVENT
BEGIN:VEVENT
DTSTART;VALUE=DATE:20180728
DTEND;VALUE=DATE:20180729
DTSTAMP:20260425T060732
CREATED:20180609T065932Z
LAST-MODIFIED:20180622T075155Z
UID:10001041-1532736000-1532822399@www.restauratoren.de
SUMMARY:Treffen der Fachgruppe Möbel und Holzobjekte im Rahmen der Ausstellung über die Restaurierung des Tobsdorfer Chorgestühls
DESCRIPTION:Am Samstag\, dem 28. Juli 2018 um 14 Uhr beginnt an der HAWK Hildesheim das Treffen der Mitglieder der VDR-Fachgruppe Möbel und Holzobjekte. Das Treffen findet statt im Rahmen der Ausstellungseröffnung (ab 11 Uhr) über „Das Tobsdorfer Chorgestühl und seine Restaurierung. Siebenbürgische Chorgestühle des Meisters Johannes Reychmut aus Schäßburg“.\n \nDie Ausstellungseröffnung beginnt ab 11 Uhr. Dazu sind auch Nicht-Fachgruppenmitlieder herzlich eingeladen. \nWeitere Informationen \nZur Restaurierung des Tobsdorfer Chorgestühls
URL:https://www.restauratoren.de/termin/treffen-der-fachgruppe-moebel-holzobjekte-im-rahmen-der-ausstellung-ueber-die-restaurierung-des-tobsdorfer-chorgestuehls/
CATEGORIES:FG Möbel und Holzobjekte,VDR-Veranstaltung
ATTACH;FMTTYPE=:
END:VEVENT
BEGIN:VEVENT
DTSTART;VALUE=DATE:20180730
DTEND;VALUE=DATE:20180731
DTSTAMP:20260425T060732
CREATED:20180527T090622Z
LAST-MODIFIED:20180528T071301Z
UID:10001024-1532908800-1532995199@www.restauratoren.de
SUMMARY:Call for Papers "Die Fassung bewahren. Keep color – keep cool"
DESCRIPTION:Der VDR und die Fachgruppe Polychrome Bildwerke laden mit freundlicher Unterstützung der Technischen Universität München zu der Tagung „Die Fassung bewahren. Konservierung und Restaurierung polychromer Bildwerke“ am 22. und 23.03.2019 herzlich ein.\n \nIm Blickpunkt der Tagung liegen die besonderen Herausforderungen polychromer Bildwerke sowie die restauratorischen Fragestellungen zum Umgang mit beschädigten Oberflächenstrukturen oder einer veränderten Farbigkeit der Kunstwerke. Ob nun gefasste antike Marmorfiguren\, mit Pressbrokat verzier-te mittelalterliche Holzskulpturen oder farbige Gipsplastiken des 19. Jahrhunderts – gemeinsam ist all diesen Werken die Kombination aus dreidimensionaler Form und farbiger Oberfläche\, die die Zielset-zung\, das Konzept und die technische Umsetzung der Konservierung/ Restaurierung bestimmt. \nSeit Beginn der Skulpturenrestaurierung fanden unterschiedliche Lösungsansätze Anwendung. Aktuell wird offenkundig eine Zurückhaltung propagiert\, die nicht unbedingt der tatsächlichen praktischen Herangehensweise entspricht. Doch wie werden derzeit Entscheidungen gefällt und welche Maßnahmen kommen zur Durchführung? Welche Erwartungen werden an das restaurierte Objekt gestellt? Welche Faktoren bestimmen die Restaurierung und haben sich diese in den letzten Jahrzehnten gewandelt? Wie gehen wir mit früheren Restaurierungsmaßnahmen um? Die Tagung soll ein Bild des heutigen Stands vom Umgang mit den Oberflächen polychromer Bildwerke geben\, wobei neben theoretischen Vorüberlegungen vor allem die praktisch-technische Umsetzung von besonderem Interesse ist. \nUm eine Standortfindung zu ermöglichen\, sollen verschiedene Fragestellungen\, Konzepte und die technischen Umsetzungen vorgestellt werden\, sowohl Best-practice-Beispiele als auch schwierige Fälle\, welche die Diskussion anregen. \nCall for Papers zum Download (including english version) \nEinsendeschluss für Abstracts ist der 30. Juli 2018 \nBildnachweis: Cornelia Saffarian\, 2018\n \n\nEnglish version: \nAfter the great success of the conference on the restoration of panel paintings in May 2015\, the focus of another conference organized by the Association of Conservators now will be on polychrome sculptures\, and the practise of their conservation and restoration. With the kind support of the Technical University of Munich\, the VDR and the polychrome sculptures section cordially invite you to the conference on 22nd and 23rd March 2019. \nThe conference will focus on the special challenges of polychrome sculpture and the questions of conservation regarding damaged surface structures or changes in the chromaticity. Antique marble figures\, medieval wood sculptures decorated with pressed brocade or colored plaster sculptures of the 19th century – they all have in common the combination of three-dimensional form and polychrome surface which determines the aim\, the concept and the technical realisation of the conservation restoration \nSince the beginning of sculpture conservation\, different approaches have been used. Currently\, a restrain regarding interventions is propagated which does not necessarily correspond to the practical approach. But how are decisions made at the moment and which treatments are carried out? What are the expectations placed on the restored sculpture? What factors determine the conservation – and did they change in the recent decades? How do we deal with previous restoration treatments?\nThe conference aims at reflecting the current state in dealing with the surfaces of polychrome sculptures. For this\, in addition to theoretical considerations\, the practical and technical aspects of the implementation are of particular interest. \nVarious problems\, concepts\, and the resulting technical implementation will be presented – best practice examples as well as difficult cases\, to stimulate discussion. \nDeadline for submission of abstracts is July 30\, 2018. \nPartner \n 
URL:https://www.restauratoren.de/termin/call-for-papers-die-fassung-bewahren/
CATEGORIES:Call for Papers,FG Polychrome Bildwerke,VDR-Veranstaltung
ATTACH;FMTTYPE=:
END:VEVENT
END:VCALENDAR