BEGIN:VCALENDAR
VERSION:2.0
PRODID:-//Verband der Restauratoren VDR - ECPv6.15.15//NONSGML v1.0//EN
CALSCALE:GREGORIAN
METHOD:PUBLISH
X-ORIGINAL-URL:https://www.restauratoren.de
X-WR-CALDESC:Veranstaltungen für Verband der Restauratoren VDR
REFRESH-INTERVAL;VALUE=DURATION:PT1H
X-Robots-Tag:noindex
X-PUBLISHED-TTL:PT1H
BEGIN:VTIMEZONE
TZID:UTC
BEGIN:STANDARD
TZOFFSETFROM:+0000
TZOFFSETTO:+0000
TZNAME:UTC
DTSTART:20190101T000000
END:STANDARD
END:VTIMEZONE
BEGIN:VTIMEZONE
TZID:Europe/Helsinki
BEGIN:DAYLIGHT
TZOFFSETFROM:+0200
TZOFFSETTO:+0300
TZNAME:EEST
DTSTART:20190331T010000
END:DAYLIGHT
BEGIN:STANDARD
TZOFFSETFROM:+0300
TZOFFSETTO:+0200
TZNAME:EET
DTSTART:20191027T010000
END:STANDARD
BEGIN:DAYLIGHT
TZOFFSETFROM:+0200
TZOFFSETTO:+0300
TZNAME:EEST
DTSTART:20200329T010000
END:DAYLIGHT
BEGIN:STANDARD
TZOFFSETFROM:+0300
TZOFFSETTO:+0200
TZNAME:EET
DTSTART:20201025T010000
END:STANDARD
BEGIN:DAYLIGHT
TZOFFSETFROM:+0200
TZOFFSETTO:+0300
TZNAME:EEST
DTSTART:20210328T010000
END:DAYLIGHT
BEGIN:STANDARD
TZOFFSETFROM:+0300
TZOFFSETTO:+0200
TZNAME:EET
DTSTART:20211031T010000
END:STANDARD
END:VTIMEZONE
BEGIN:VEVENT
DTSTART;VALUE=DATE:20201001
DTEND;VALUE=DATE:20201002
DTSTAMP:20260420T193249
CREATED:20200719T081548Z
LAST-MODIFIED:20200719T081548Z
UID:10001330-1601510400-1601596799@www.restauratoren.de
SUMMARY:Call for Entries: Europa Nostra Awards 2021
DESCRIPTION:Arbeiten Sie im Bereich kulturelles Erbe? Dann können Sie sich noch bis zum 1. Oktober 2020 mit Ihrem Projekt für die Auszeichnung bewerben\, die von der Europäischen Kommission vergeben wird. Jährlich werden Leistungen geehrt\, die das Kulturerbe Europas bewahren und fördern. \nSeit 2002 werden die European Heritage Awards/Europa Nostra Awards verliehen. Der Preis zeichnet Projekte aus\, die sich in den Kategorien Erhaltung\, Forschung\, Bildung\, Ausbildung und Sensibilisierung sowie engagierter Dienst am Kulturerbe einsetzen. Damit wird die Anerkennung des Kulturerbes gestärkt und der Austausch über Best Practice-Beispiele gefördert. \nIn diesem Jahr werden außerdem erneut zwei Preise im Rahmen von Horizont 2020 vergeben: Die ILUCIDARE-Sonderpreise zeichnen Projekte aus\, die beispielhaft im Bereich Innovation und Diplomatie rund um kulturelles Erbe sind. \n\nBewerbungsfrist: 1. Oktober 2020\nJe Kategorie kann nur ein Beitrag eingereicht werden\nVorgeschlagen werden können Projekte aus Ländern\, die Teil des Creative Europe Programm der EU sind\n\nWeitere Informationen:\nhttp://www.europeanheritageawards.eu/apply/\nhttp://www.europeanheritageawards.eu/faq/ \n  \n 
URL:https://www.restauratoren.de/termin/call-for-entries-europa-nostra-awards-2021/
CATEGORIES:Externe Veranstaltung
END:VEVENT
BEGIN:VEVENT
DTSTART;VALUE=DATE:20201006
DTEND;VALUE=DATE:20201007
DTSTAMP:20260420T193249
CREATED:20200210T091514Z
LAST-MODIFIED:20200210T091514Z
UID:10001311-1601942400-1602028799@www.restauratoren.de
SUMMARY:Fachseminar: Arbeiten in kontaminierten Bereichen in der Baudenkmalpflege
DESCRIPTION:Sie planen oder verantworten Arbeiten in kontaminierten Bereichen und möchten sich gerne angelehnt an die TRGS524 / BGR 128 in Arbeitsorganisation und Arbeitsschutz weiterbilden?\nDann empfehlen wir Ihnen dieses Seminar am 06.10.2020 in München. \nDas Fachseminar ist speziell für Architekten\, Planer und Baudenkmalpfleger die in sogenannten „Kontaminierten Bereichen“ arbeiten bzw. Bauleitung / Bauherrenfunktionen in diesen Bereichen ausüben und sich praxisorientiert über Arbeiten in kontaminierten Bereichen weiterbilden möchten. \nFür mehr Informationen und Anmeldung: http://care-for-art.de/seminare/fachseminar/ \n Nach der TRGS 524 und DGUV-R 101-004 \n Kompakt und praxisnah \n Mit praxisorientiertem Prozess \n Gut erreichbarer Standort \n  \nFür VDR-Mitglieder können wir bei allen Seminaren eine Preisreduktion von 10% anbieten\, bitte geben Sie bei der Anmeldung den Rabattcode VDRCFA2020 an. Zusätzlich bieten wir eine Early-Bird Reduktion von 10% an\, wenn die Anmeldung bis zu einem Monat vor Veranstaltungsbeginn bei uns eingegangen ist.
URL:https://www.restauratoren.de/termin/fachseminar-arbeiten-in-kontaminierten-bereichen-in-der-baudenkmalpflege/
CATEGORIES:Externe Veranstaltung
END:VEVENT
BEGIN:VEVENT
DTSTART;TZID=Europe/Helsinki:20201006T150000
DTEND;TZID=Europe/Helsinki:20201006T170000
DTSTAMP:20260420T193249
CREATED:20201004T110022Z
LAST-MODIFIED:20201004T110022Z
UID:10001237-1601996400-1602003600@www.restauratoren.de
SUMMARY:Vortrag: Die Universitäts- und Landesbibliothek als Wissensvermittler
DESCRIPTION:In der „Weiterbildungsreihe Bestandserhaltung“ möchte die Universitäts- und Landesbibliothek Darmstadt ihre Kompetenzen im Bereich der Bestandserhaltung von Bibliotheks- und Archivgut teilen und durch vielfältige Vorträge ausgewiesener Experten rund um das Thema\, Fachleute wie Bibliothekare\, Archivare\, Restauratoren und alle anderen Interessierten einladen\, sich nach einem interessanten Fachvortrag austauschen zu können.  \nAlle Vorträge finden digital über Zoom statt.  \nIm zweiten Vortrag am 06.10.2020 um 15:00 Uhr referiert die Leiterin der Bestandserhaltung der ULB Jana Moczarski\, über die Geschichte der ULB\, welche aus der großherzoglichen Bibliothek entstanden ist und auf eine wechselvolle über 450-jährige Tradition zurückblicken kann. Neben einem geschichtlichen Abriss und einer Vorstellung der Aufgaben der ULB\, sowie den Anstrengungen\, welche in der Bestandserhaltung zur Langzeitaufbewahrung der historischen und sehr wertvollen Altbestände unternommen werden\, wird auch die Geschichte der herzoglichen Familie und die Verbindungen zum russischen Zarenhaus beleuchtet. Nach dem Vortrag gibt es Zeit für Fragen und eine Fachdiskussion. Weitere Themen werden in den nächsten Wochen die Notfallplanung\, Schutzverpackungen für Kulturgut\, der Umgang mit Künstlernachlässen\, die Buchmalerei des Mittelalters und Schimmel in Kultureinrichtungen sein. \nWeitere Themen der Weiterbildungsreihe https://janamoczarski.de/Bestandserhaltung2020/\n \nAnmelden kann man sich gern per Mail unter bestandserhaltung(at)ulb.tu-darmstadt.de
URL:https://www.restauratoren.de/termin/vortrag-die-universitaets-und-landesbibliothek-als-wissensvermittler/
CATEGORIES:Externe Veranstaltung
END:VEVENT
BEGIN:VEVENT
DTSTART;VALUE=DATE:20201009
DTEND;VALUE=DATE:20201011
DTSTAMP:20260420T193249
CREATED:20200922T115516Z
LAST-MODIFIED:20200922T115516Z
UID:10001235-1602201600-1602374399@www.restauratoren.de
SUMMARY:"Special Colours": Online-Kolloquium über nicht-alltägliche Farben
DESCRIPTION:Special Colours. Vorträge und Gespräche über nichtalltägliche Farben am 09. und 10.10.2020 \n\nWissensforum Farbe – Licht e.V. und HfBK Dresden in Koop. mit TU Dresden | ONLINE-Anmeldung \n\n\n\nAcht Referentinnen aus den Bereichen Kunstwissenschaft\, Medienwissenschaft\, Restaurierungswissenschaft und Theologie stellen ihre spezifischen interdisziplinären Forschungen zu nicht-alltäglichen Farbstoffen und -themen vor. Sie eröffnen damit überraschende Einblicke in die Farb-Geschichte und Farb-Gegenwart und stellen die Wirkung und Relevanz der benannten Phänomene\, Erfindungen\, Verfahren und Konzepte für die aktuelle Kunst\, Wissenschaft und Konservierungsforschung zur Diskussion. \nWeitere Informationen und Anmeldung
URL:https://www.restauratoren.de/termin/special-colours-online-kolloquium-ueber-nicht-alltaegliche-farben/
CATEGORIES:Externe Veranstaltung
END:VEVENT
BEGIN:VEVENT
DTSTART;VALUE=DATE:20201011
DTEND;VALUE=DATE:20201012
DTSTAMP:20260420T193249
CREATED:20200629T094749Z
LAST-MODIFIED:20210323T120952Z
UID:10001328-1602374400-1602460799@www.restauratoren.de
SUMMARY:Europäischer Tag der Restaurierung
DESCRIPTION:Am 11. Oktober 2020 veranstaltet der VDR den 3. Europäischen Tag der Restaurierung in Deutschland. Dieser soll neben Besuchen in den Ateliers auch um viele digitale Angebote wie Videos\, Podcasts und Post in den Sozialen Medien erweitert werden. Restauratoren sind dazu aufgerufen\, sich zu beteiligen. Hilfestellungen zum Mitmachen und Werbematerial stehen bereit. \nSehen\, was man sonst nicht sieht. Darum geht es am Europäischen Tag der Restaurierung. Restaurator*innen aus ganz Europa zeigen am zweiten Sonntag im Oktober ihre Türen\, um Interessierten ihre Arbeitswelt zu zeigen\, die sonst im Verborgenen liegt. \n2020 feiern wir den Europäischen Tag der Restaurierung sowohl vor Ort als auch digital. \nGerade in der aktuellen Situation geht die Gesundheit vor. Wo Besuche vor Ort aufgrund der notwendigen Mindestabstände nicht möglich sind\, möchten wir trotz Corona-Krise zeigen\, worauf es bei der Restaurierung von Kulturgut ankommt. Wem es aus gesundheitlichen Gründen zu riskant ist\, vor Ort dabei zu sein\, möchten wir aus der Ferne online die Gelegenheit geben\, Restaurierungsateliers und Baustellen zu erkunden und die Arbeit der Restaurator*innen kennenzulernen. \nFreuen Sie sich schon jetzt über spannende Einblicke in die Welt der Restaurierung und entdecken Sie das digitale Angebot oder besuchen Sie Restauratorinnen vor Ort. \n  \nHier geht es zur offiziellen Veranstaltungswebsite \n \n 
URL:https://www.restauratoren.de/termin/europaeischer-tag-der-restaurierung-2/
CATEGORIES:VDR-Veranstaltung
ORGANIZER;CN="Verband der Restaurator%3Ainnen (VDR) e. V.":MAILTO:veranstaltungen@restauratoren.de
END:VEVENT
BEGIN:VEVENT
DTSTART;TZID=UTC:20201015T180000
DTEND;TZID=UTC:20201015T180000
DTSTAMP:20260420T193249
CREATED:20191230T094128Z
LAST-MODIFIED:20201005T114244Z
UID:10001281-1602784800-1602784800@www.restauratoren.de
SUMMARY:Vortrag über den Rother Altar
DESCRIPTION:Im Rahmen des Restaurierungskolloquiums am Technoseum in Mannheim halten Andreas Krock und Henrike Bierbrodt am 15.10.2020 einen Vortrag den Der Rother Altar – seine Geschichte und die Konservierung/Restaurierung seiner barocken Ausstattung.\nDer Rother Altar\, benannt nach seinem ursprünglichen Standort in der Sebastians-Kapelle in Rothbei Meßkirch\, ist ein herausragendes Exempel deutscher Spätgotik. Als Bildhauer gilt der um 1481 bis 1528 tätige Nikolaus Weckmann\, ein namhafter Vertreter der Ulmer Schule. Die rückseitig ausgeführten Malereien sind durch den Maler Hans Strüb signiert und datiert. Seine Geschichte\, sein wechselvolles Schicksal in Zeiten der Reformation sowie die Konservierung und Restaurierung von Teilen der später hinzugekommenen barocken Altarausstattung stehen im Mittelpunkt beider Vorträge. \nBeginn: 18 Uhr\nhttps://www.technoseum.de/ \nDer Vortrag wird über webex als Videokonferenz durchgeführt. Sie können sich über den folgenden Link zuschalten: https://technoseum.webex.com/webappng/sites/technoseum/meeting/download/dd32300d69814a8e998cd648fc32c59b?siteurl=technoseum&MTID=mf91b013cf7006fd2b629ccf164859ad8 \nMeeting-Kennnummer (Zugriffscode): 163 561 2484 \nMeeting Passwort: 4298 \nDonnerstag\, 15. Oktober 2020\n17:45 | (UTC+02:00) Amsterdam\, Berlin\, Bern\, Rom\, Stockholm\, Wien | 1 Stunde 45 Minuten \n\n\n\nHier tippen\, um mit Mobilgerät beizutreten (nur für Teilnehmer)\n\n\n+49-619-6781-9736\,\,1635612484## Germany Toll\n\n\n+49-89-95467578\,\,1635612484## Germany Toll 2\n\n\n\n\n\n\n\n\n\n  \n\n\n\nÜber Telefon beitreten\n\n\n+49-619-6781-9736 Germany Toll\n\n\n+49-89-95467578 Germany Toll 2\n\n\nGlobale Einwahlnummern\n\n\n\n  \n\n\n\n\n\n\n\n  \n\n\n\nÜber Videogerät oder -anwendung beitreten\n\n\nWählen Sie 1635612484@technoseum.webex.com\n\n\nSie können auch 62.109.219.4 wählen und Ihre Meeting-Nummer eingeben.\n\n\n\n  \n\n\n\n\n\n\n\n  \n\n\n\nMit Microsoft Lync oder Microsoft Skype for Business beitreten\n\n\nWählen Sie 1635612484.technoseum@lync.webex.com\n\n\n\n\n\n\n\n\n\n\n\n\n\nBenötigen Sie Hilfe? Gehen Sie zu http://help.webex.com\n\n\n\nEs wird auch möglich sein\, Fragen zu stellen. \n  \nIm Vortragsraum dürfen höchstens 12 Personen anwesend sein. Wenn Sie gerne persönlich anwesend sein wollen\, dann wenden Sie sich bitte vorab auf jeden Fall an mich unter der folgenden Emailadresse: Ingeborg.Osen@technoseum.de
URL:https://www.restauratoren.de/termin/vortrag-ueber-den-rother-altar/
CATEGORIES:Externe Veranstaltung
END:VEVENT
BEGIN:VEVENT
DTSTART;TZID=Europe/Helsinki:20201020T153000
DTEND;TZID=Europe/Helsinki:20201020T170000
DTSTAMP:20260420T193249
CREATED:20201004T110317Z
LAST-MODIFIED:20201004T110317Z
UID:10001338-1603207800-1603213200@www.restauratoren.de
SUMMARY:Erstellung von Notfalllaufkarten in Archiv\, Bibliothek und Museum
DESCRIPTION:In der „Weiterbildungsreihe Bestandserhaltung“ möchte die Universitäts- und Landesbibliothek Darmstadt ihre Kompetenzen im Bereich der Bestandserhaltung von Bibliotheks- und Archivgut teilen und durch vielfältige Vorträge ausgewiesener Experten rund um das Thema\, Fachleute wie Bibliothekare\, Archivare\, Restauratoren und alle anderen Interessierten einladen\, sich nach einem interessanten Fachvortrag austauschen zu können. \nAlle Vorträge finden digital über Zoom statt. \nIm Vortrag am 20.10.2020 um 15:30 Uhr spricht Dipl.-Restauratorin Susanne Rißmann über die Erstellung von Notfalllaufkarten in Archiv\, Bibliothek und Museum. \nWeitere Themen der Weiterbildungsreihe https://janamoczarski.de/Bestandserhaltung2020/ \nAnmelden kann man sich gern per Mail unter bestandserhaltung(at)ulb.tu-darmstadt.de
URL:https://www.restauratoren.de/termin/erstellung-von-notfalllaufkarten-in-archiv-bibliothek-und-museum/
CATEGORIES:Externe Veranstaltung
END:VEVENT
BEGIN:VEVENT
DTSTART;TZID=Europe/Helsinki:20201027T190000
DTEND;TZID=Europe/Helsinki:20201027T200000
DTSTAMP:20260420T193249
CREATED:20201013T152904Z
LAST-MODIFIED:20201026T124524Z
UID:10001343-1603825200-1603828800@www.restauratoren.de
SUMMARY:Webinar "Versicherungsschutz für selbstständige und angestellte Restauratoren"
DESCRIPTION:Sich nicht auf Fachtagungen zu treffen\, muss nicht bedeuten\, dass wir nichts voneinander hören und sehen: Der VDR möchte seine Mitglieder am Dienstag\, 27.10.2020\, von 19 bis 20 Uhr zu einem kostenlosen Webinar einladen\, in dem unser langjähriges Fördermitglied Dr. Bernd von Bieler\, Geschäftsführer der BvB Versicherungsmakler und Beratungs GmbH\, Sie über den nötigen Versicherungsschutz für selbstständige und/oder angestellte Restauratoren informiert.  \nDies bietet allen – trotz Coronakrise – die Gelegenheit miteinander in Kontakt zu kommen und sich auszutauschen. Weil wir nicht absehen können\, wann und ob überhaupt in nächster Zeit ein „Normalbetrieb“ bei Tagungen wieder möglich ist\, möchten wir Ihnen künftig digitale Angebote machen. Wir hoffen\, dass wir damit unser Veranstaltungsprogramm für Sie ergänzen. Ersetzen möchten wir unsere beliebten Präsenzveranstaltungen durch Webinare und Videokonferenzen nicht. \nIm Webinar geht es um absolut notwendige Versicherungen und um empfehlenswerte für das Arbeiten am Objekt. Bearbeitungsschäden werden genauso thematisiert wie Kunst- und Werkstattversicherungen.\nWeil viele Restauratoren Nebentätigkeiten ausüben und sowohl Arbeitnehmer\, als auch Unternehmer sind\, widmet sich Dr. Bernd von Bieler auch dieser Konstellation.\nIm Anschluss an den Vortrag haben Sie die Möglichkeit Fragen an Bernd von Bieler zu stellen und Zweifelsfälle anzusprechen\, die im Gespräch direkt beantwortet werden. Wir würden uns freuen\, wenn Sie sich für das Webinar anmelden und zuschalten würden!\nBitte lassen Sie uns gerne auch schon im Vorfeld des Webinars – möglichst bis zum 25. Oktober – Fragen zukommen (im Anmeldeformular)\, so dass wir uns noch besser auf das Gespräch mit Ihnen vorbereiten können. \n	Anmeldung \nAnmeldeschluss: 25. Oktober 2020 \nDas kostenfreie Webinar ist für VDR Mitglieder.\nDie Teilnehmerzahl ist auf max. 145 Personen begrenzt.\nMit Absenden der Online-Anmeldung ist Ihre Anmeldung verbindlich. Sie erhalten eine automatisierte Anmeldebestätigung an die von Ihnen angegebene E-Mail-Adresse. Die Bestätigung enthält Ihre Anmeldedaten sowie weitere Informationen. Sollten Sie innerhalb von 24 Stunden keine E-Mail erhalten\, kontaktieren Sie uns bitte unter veranstaltungen[at]restauratoren.de. \n	\n				Zur Veranstaltungsanmeldung\n			\n	Hinweise \nDas Webinar findet über GoToMeeting statt. Die Zugangsdaten senden wir Ihnen einen Tag vor Beginn der Veranstaltung. \n	Kontakt \nBei Fragen melden Sie sich bitte beim Veranstaltungsteam der VDR Geschäftsstelle unter veranstaltungen[at]restauratoren.de oder unter der Telefonnummer +49 228 926897-13 (Julia Kun\, Mo-Mi) oder -14 (Henrike Steinweg\, Mi-Fr). \n	Partner \n \n	Bildnachweis \n© Cody\, WY\, USA über www.unsplash.com
URL:https://www.restauratoren.de/termin/webinar-versicherungsschutz-fuer-selbststaendige-und-angestellte-restauratoren/
CATEGORIES:VDR-Veranstaltung
ATTACH;FMTTYPE=image/jpeg:https://www.restauratoren.de/wp-content/uploads/2020/10/Titelbild_c-Cody_WY_USA.jpg
ORGANIZER;CN="VDR":MAILTO:veranstaltungen@restauratoren.de
END:VEVENT
BEGIN:VEVENT
DTSTART;TZID=Europe/Helsinki:20201029T180000
DTEND;TZID=Europe/Helsinki:20201029T193000
DTSTAMP:20260420T193249
CREATED:20201008T121421Z
LAST-MODIFIED:20201008T121422Z
UID:10001342-1603994400-1603999800@www.restauratoren.de
SUMMARY:Vortrag zum Gemäldezyklus von Francesco Albani in der Moritzkirche zu Naumburg
DESCRIPTION:„Die Italiener in Naumburg: Konservierung und Restaurierung des Gemäldezyklus von Francesco Albani in der Moritzkirche zu Naumburg“ heißt ein Vortrag am 29.10.2020 im Rahmen der Vortragsreihe des Verbandes der Restauratoren (VDR) und des Kunstmuseums Moritzburg Halle (Saale) über Restaurierung und Forschung.\n \nEinladung zum Vortrag:\n„Die Italiener in Naumburg: Konservierung und Restaurierung des Gemäldezyklus von Francesco Albani in der Moritzkirche zu Naumburg.“\nDonnerstag\, den 29. Oktober 2020\, 18:00 Uhr\nEmpore\, 2. OG im\nKunstmuseum Moritzburg\nFriedemann-Bach-Platz 5\n06108 Halle / Saale\nEintritt: 3 Euro / erm. 2 Euro /FK frei \nPowerPoint-Vortrag und anschließende Diskussion von und mit Andrea Himpel (Restauratorin\, VDR) \nDas frühbarocke\, für mitteldeutsche Kirchen ungewöhnliche Gemäldeensemble von Francesco Albani verhalf der sonst weniger beachteten Naumburger Moritzkirche in den letzten Jahren zu überregionaler Aufmerksamkeit. Das Ensemble (1606-1609) besteht aus 15 gleichgroßen Gemälden – drei mit der Deësis (Maria\, Christus und Johannes dem Täufer) und zwölf mit Aposteldarstellungen.\nDas lange nicht beachtete Eigentum der Kirchgemeinde Moritzkirche zeugt von den Kunstverschiebungen\, die sich in der ersten Hälfte des 19. Jahrhunderts in Europa ereigneten. 2015 wurden in der Ausstellung „Naumburg und die Düsseldorfer Malerschule“ in der JVA Naumburg erstmals die drei Gemälde mit der Deësis der Öffentlichkeit vorgestellt.\nHintergrund war der Wunsch der Kirchgemeinde nach Restaurierung und Präsentation des Gemäldeschatzes. 2016 konnte das erste Gemälde restauriert werden\, wonach Rückschlüsse auf die Restaurierung des gesamten Ensembles getroffen werden konnten. Entdeckungen während der Restaurierung zeigten französische Restaurierungsmethoden und Präsentationsformen\, welche auf die Geschichte der Berliner Galerie verweisen. Nach der Restaurierung stellten präventiver Konservierungsmaßahmen hinsichtlich Präsentation und klimatischer Anpassung weitere Herausforderungen dar. \nWir würden uns sehr freuen Sie bei dem Vortrag begrüßen zu dürfen.\nAnnegret Philipsen\nim Namen des VDR\, Landesgruppe Sachsen-Anhalt\nVerband der Restauratoren (VDR) e.V. \nAnnegret Philipsen\, Vorsitzende der Landesgruppe Sachsen-Anhalt\nMühlweg 22\n06114 Halle (Saale)\nTel: 0179 9762785 \n  \nBildnachweis: Bildnis der Maria“\, Detail während der Firnisabnahme. Francesco Albani\, 1606-1609\, Eigentum Kirchgemeinde Moritzkirche Naumburg Foto: Andrea Himpel
URL:https://www.restauratoren.de/termin/vortrag-zum-gemaeldezyklus-von-francesco-albani-in-der-moritzkirche-zu-naumburg/
LOCATION:Kunstmuseum Moritzburg\, Friedemann Bach Platz 5\, Halle/ Saale\, 06108\, Deutschland
CATEGORIES:Landesgruppe Sachsen-Anhalt,VDR-Veranstaltung
ATTACH;FMTTYPE=image/jpeg:https://www.restauratoren.de/wp-content/uploads/2020/10/Himpel_Vortrag_Foto_klein.jpg
END:VEVENT
END:VCALENDAR