BEGIN:VCALENDAR
VERSION:2.0
PRODID:-//Verband der Restauratoren VDR - ECPv6.15.15//NONSGML v1.0//EN
CALSCALE:GREGORIAN
METHOD:PUBLISH
X-ORIGINAL-URL:https://www.restauratoren.de
X-WR-CALDESC:Veranstaltungen für Verband der Restauratoren VDR
REFRESH-INTERVAL;VALUE=DURATION:PT1H
X-Robots-Tag:noindex
X-PUBLISHED-TTL:PT1H
BEGIN:VTIMEZONE
TZID:Europe/Paris
BEGIN:DAYLIGHT
TZOFFSETFROM:+0100
TZOFFSETTO:+0200
TZNAME:CEST
DTSTART:20210328T010000
END:DAYLIGHT
BEGIN:STANDARD
TZOFFSETFROM:+0200
TZOFFSETTO:+0100
TZNAME:CET
DTSTART:20211031T010000
END:STANDARD
BEGIN:DAYLIGHT
TZOFFSETFROM:+0100
TZOFFSETTO:+0200
TZNAME:CEST
DTSTART:20220327T010000
END:DAYLIGHT
BEGIN:STANDARD
TZOFFSETFROM:+0200
TZOFFSETTO:+0100
TZNAME:CET
DTSTART:20221030T010000
END:STANDARD
BEGIN:DAYLIGHT
TZOFFSETFROM:+0100
TZOFFSETTO:+0200
TZNAME:CEST
DTSTART:20230326T010000
END:DAYLIGHT
BEGIN:STANDARD
TZOFFSETFROM:+0200
TZOFFSETTO:+0100
TZNAME:CET
DTSTART:20231029T010000
END:STANDARD
END:VTIMEZONE
BEGIN:VEVENT
DTSTART;VALUE=DATE:20221129
DTEND;VALUE=DATE:20221203
DTSTAMP:20260425T011909
CREATED:20221108T090356Z
LAST-MODIFIED:20221108T090356Z
UID:10001637-1669680000-1670025599@www.restauratoren.de
SUMMARY:Online conference: Facing Climate Change
DESCRIPTION:The Leibniz Association of Research Museums and University of Cambridge Museums are delighted to announce their online conference ‚Focus on Conservation: Facing Climate Change‚ on 29th November to 2nd December 2022. \n\nClimate change is creating new threats to the preservation of cultural heritage. Museums may already struggle to provide the best possible care for their collections\, and with increasing weather extremes and shifting pest species ranges\, the challenges are mounting. This virtual conference will address some of the issues\, exploring sustainable pest management; protecting collections and heritage from climate change; using more environmentally friendly conservation methods and incorporating these themes into conservation education. The meeting will take an international perspective\, with contributions from the global South and the global North. \n\nRegistration is free for participants. \n\nTo find more details and the registration link\, please visit the conference website here: https://www.museums.cam.ac.uk/facing-climate-change
URL:https://www.restauratoren.de/termin/online-conference-facing-climate-change/
CATEGORIES:Externe Veranstaltung
END:VEVENT
BEGIN:VEVENT
DTSTART;TZID=Europe/Paris:20221201T170000
DTEND;TZID=Europe/Paris:20221201T180000
DTSTAMP:20260425T011909
CREATED:20221112T125734Z
LAST-MODIFIED:20221112T125734Z
UID:10001641-1669914000-1669917600@www.restauratoren.de
SUMMARY:Vortrag "Immunologische Nachweisverfahren"
DESCRIPTION:Im Rahmen der Donnerstagsvorträge an der Hochschule der Künste Bern findet am 01.12.2022 um 17 Uhr ein Vortrag von Julia Schultz von der Hochschule Hildesheim statt: Immunologische Nachweisverfahren – Forschung und Untersuchung im Hochschulalltag \nWeitere Informationen und Anmeldung
URL:https://www.restauratoren.de/termin/vortrag-immunologische-nachweisverfahren/
CATEGORIES:Externe Veranstaltung
END:VEVENT
BEGIN:VEVENT
DTSTART;VALUE=DATE:20221207
DTEND;VALUE=DATE:20221211
DTSTAMP:20260425T011909
CREATED:20221126T183815Z
LAST-MODIFIED:20221128T172840Z
UID:10001643-1670371200-1670716799@www.restauratoren.de
SUMMARY:Restaurierungstagung „YOCOCU 2022 Conference“
DESCRIPTION:Die diesjährige Ausgabe der biennalen Tagungsreihe\, die vom Verein Youth in Conservation of Cultural Heritage (YOCOCU) organisiert wird\, widmet sich den offenen Fragen im vielfältigen Bereich der Erhaltung und Restaurierung des Kulturellen Erbes. Die YOCOCU 2022 Christmas Edition findet vom 07.-10.12.2022 im Museum für Kommunikation in Frankfurt statt. \nDer Untertitel der internationalen Tagung lautet „we’ve got questions\, you’ve got answers“ – in den Präsentationen der Vortragenden werden diese ihre Antworten auf provokativ gestellte Fragen geben. Dazu gehören die Themen der Nachhaltigkeit in der Erhaltung\, der Inklusion im Kultursektor und kulturellen Einrichtungen\, der Erhaltung von Urban Art und digitaler Kunst\, der Rolle der naturwissenschaftlichen Analysen in Konservierung & Restaurierung\, sowie des Potentials von Akteuren des Kultursektors\, einen Beitrag zur Gesellschaft zu leisten. Die Tagungssprache ist Englisch. \nWeitere Informationen und Programm \nZur Anmeldung
URL:https://www.restauratoren.de/termin/restaurierungstagung-yococu-2022-conference/
CATEGORIES:Externe Veranstaltung
END:VEVENT
BEGIN:VEVENT
DTSTART;TZID=Europe/Paris:20221208T170000
DTEND;TZID=Europe/Paris:20221208T183000
DTSTAMP:20260425T011909
CREATED:20221128T173710Z
LAST-MODIFIED:20221128T173742Z
UID:10001644-1670518800-1670524200@www.restauratoren.de
SUMMARY:Vortrag: "Conservation beyond lifetimes"
DESCRIPTION:Im Rahmen der Donnerstagsvorträge an der Hochschule der Künste Bern findet am 08.12.2022 um 17 Uhr ein Vortrag von Jane Henderson\, Cardiff University statt: \n„Conservation beyond lifetimes: Exclusion and inclusion – who do we keep things for?“ \nDer Vortrag findet im Auditorium\, Fellerstraße 11\, 3027 Bern und online via Zoom statt. \nWeitere Informationen und Zoom-Link
URL:https://www.restauratoren.de/termin/vortrag-conservation-beyond-lifetimes/
CATEGORIES:Externe Veranstaltung
END:VEVENT
BEGIN:VEVENT
DTSTART;TZID=Europe/Paris:20221212T140000
DTEND;TZID=Europe/Paris:20221212T153000
DTSTAMP:20260425T011909
CREATED:20221021T101237Z
LAST-MODIFIED:20221021T101237Z
UID:10001626-1670853600-1670859000@www.restauratoren.de
SUMMARY:Sammlung & Exponat 2: Fotografien als Sammlungsgut
DESCRIPTION:Das Gleimhaus – Museum der deutschen Aufklärung bietet in der Reihe „Sammlung & Exponat“ den Vortrag „Fotografien als Sammlungsgut“ an. \n12.12.2022 – 14:00 Uhr \nVortragende: Ulrike Müller & Regine Bartholdt\, beide: Sächsisches Staatsarchiv. Im ersten Teil des Vortrages werden verschiedene fotografische Techniken und deren zeitliche Einordnung vorgestellt. Im zweiten Teil geht es um Bestandserhaltung fotografischer Materialien. Konkret werden die Themenbereiche Verpackung und Lagerung angesprochen. \nEintritt: kostenlos – Anmeldung unter: gleimhaus(at)halberstadt.de \nWeitere Informationen 
URL:https://www.restauratoren.de/termin/sammlung-exponat-2-fotografien-als-sammlungsgut/
CATEGORIES:Externe Veranstaltung
END:VEVENT
BEGIN:VEVENT
DTSTART;TZID=Europe/Paris:20221213T171500
DTEND;TZID=Europe/Paris:20221213T183000
DTSTAMP:20260425T011909
CREATED:20220930T082015Z
LAST-MODIFIED:20220930T082015Z
UID:10001484-1670951700-1670956200@www.restauratoren.de
SUMMARY:Talk: New study of the materials\, painting techniques and state of conservation in the Brancacci Chapel in Florence 
DESCRIPTION:13.12.2022\, 17:15 Uhr\nAlberto Felici\, Soprintendenza Archeologia\, Belle Arti e Paesaggio\, Firenze \nReflection and innovation: a new study of the materials\, painting techniques and state of conservation in the Brancacci Chapel in Florence  \n\n\n\n\nOrt–Präsenz: Güntzstrasse 34\, 01307 Dresden. Hörsaal R 222\nOrt–Online: https://us02web.zoom.us/j/87045894352 \nDie Ringvorlesung findet als Hybridveranstaltung statt.\nFür die Präsenzteilnahme gilt das aktuelle Hygiene- und Maßnahmenkonzept. \n\n\n\n\nGroße Forschungs- und Restaurierungsprojekte sind oft Impulsgeber. Die Auseinandersetzung mit bedeutenden Kunstwerken im interdisziplinären Kontext bringt Fortschritt und neue Erkenntnisse. Die Vortragsreihe DenkRaum Restaurierung widmet sich im Wintersemester 2022/23 diesen Impulsen und lädt herzlich ein zu Gespräch und Austausch. \n\n\n\n\nKonzept: Markus Santner\, Christoph Herm und Ivo Mohrmann Studiengang Kunsttechnologie\, Konservierung und Restaurierung Hochschule für Bildende Künste Dresden
URL:https://www.restauratoren.de/termin/talk-new-study-of-the-materials-painting-techniques-and-state-of-conservation-in-the-brancacci-chapel-in-florence/
CATEGORIES:Externe Veranstaltung
END:VEVENT
BEGIN:VEVENT
DTSTART;VALUE=DATE:20221216
DTEND;VALUE=DATE:20221217
DTSTAMP:20260425T011909
CREATED:20221211T122028Z
LAST-MODIFIED:20221211T122028Z
UID:10001647-1671148800-1671235199@www.restauratoren.de
SUMMARY:Symposium "Preserving Liveliness"
DESCRIPTION:Preserving Liveliness\, 16.12.2022\, 9-18 h \nSymposium of the Institute for Conservation–Restoration/ Modern and Contemporary Art and the Institute for Natural Sciences and Technology in the Art of the Academy of Fine Arts Vienna on the Handling of Processual\, Organic and Living Materials in Contemporary Art. \nConcept: Carolin Bohlmann (IKR) / Katja Sterflinger (INTK) \nAcademy of Fine Arts Vienna Conference Room\, Ground Floor Schillerplatz 3\, 1010 Vienna \nRegistration is not required\, participation is free of charge. \n  \nThe conference will address conservation issues regarding living processual materials\, and transient\, processual\, and performative artworks – questions that have increasingly preoccupied the field of conservation in recent years. Topics related to the collaboration with natural scientists\, curators\, climatologists\, and pest control specialists will be discussed as well as options of how to exhibit\, perceive\, collect\, document and preserve these works of art. \n  \nProgramm \n  \n 
URL:https://www.restauratoren.de/termin/symposium-preserving-liveliness/
CATEGORIES:Externe Veranstaltung
END:VEVENT
BEGIN:VEVENT
DTSTART;TZID=Europe/Paris:20221216T150000
DTEND;TZID=Europe/Paris:20221216T170000
DTSTAMP:20260425T011909
CREATED:20221211T120820Z
LAST-MODIFIED:20221211T120820Z
UID:10001646-1671202800-1671210000@www.restauratoren.de
SUMMARY:Online-Infotag zum HAWK-Studiengang Konservierung und Restaurierung
DESCRIPTION:Am 16. Dezember 2022 informiert die HAWK-Fakultät Bauen und Erhalten in Hildesheim online über den Bachelortudiengang Konservierung und Restaurie­rung. Von 15 bis 17 Uhr können sich Studieninteressierte zu Studienvoraussetzungen und Lehrinhalten informieren. \nStudiendekanin Prof. Ulrike Hähner und Lehrende der verscheidenen Fachgebiete beantworten die Fragen der Studieninteressierten und geben Einblicke in den Studiengang. Auch Bachelor- und Masterstudierende der verschiedenen Vertiefungsrichtungen nehmen an der Veranstaltung teil und stellen Arbeiten aus ihrem Studium vor. Daneben erhalten Teilnehmende Informationen zu Auslandsprojekten und internationale Kooperationen des Studiengangs. \nFür kulturell und naturwissenschaftlich interessierte Personen kann das Studium der Kon­servierung und Restaurierung von Kulturgütern besonders attraktiv sein. Es verbindet Wissen­schaft mit handwerk­lichen und technischen Fähigkeiten. Studierende befassen sich mit den historischen und künstlerischen Herstellungs­techniken und ihren Werkstoffen. Sie lernen den Einfluss von Umwelt und Benutzung auf den Alterungsverlauf und die Schadensent­stehung kennen. Methoden der Zustandsuntersuchung\, Schadensprä­vention\, Dokumentation sowie die Konser­vierung und Restaurierung an originalen Objekten stehen ebenso auf dem Lehrplan. Die Studierenden spezialisieren sich\, indem sie ihre Vertiefung(en) auswählen. Zur Wahl stehen dabei die Studienrichtungen „Gefasste Holzobjekte und Gemälde“\, „Möbel\, Holzobjekte und Materialkombinationen“\, „Schriftgut\, Buch und Grafik“ sowie „Steinobjekte und Architekturoberfläche“. \nDie Veranstaltung findet online über Zoom statt. Den Link sowie weitere Informationen und technische Hinweise erhalten Sie unter: www.hawk.de/b/infotag
URL:https://www.restauratoren.de/termin/online-infotag-zum-hawk-studiengang-konservierung-und-restaurierung/
CATEGORIES:Externe Veranstaltung
END:VEVENT
BEGIN:VEVENT
DTSTART;TZID=Europe/Paris:20221221T170000
DTEND;TZID=Europe/Paris:20221221T183000
DTSTAMP:20260425T011909
CREATED:20221211T122613Z
LAST-MODIFIED:20221211T122639Z
UID:10001648-1671642000-1671647400@www.restauratoren.de
SUMMARY:Lecture: The Art of Preservation
DESCRIPTION:The Art of Preservation: Research Seminar with Anna Schäffler\nWednesday\, December 21\, 2022\, 17:00-18:30 CET – ONLINE \n\n\n\nSNSF Activating Fluxus in collaboration with SNSF Performance: Conservation\, Materiality\, Knowledge are thrilled to announce the next in the series of our Research Wednesdays\, taking place on Wednesday\, December 21\, 2022\, 17:00-18:30 CET – ONLINE. Our guest will be Dr Anna Schäffler\, who will present a lecture on the topic of her new book\, „The Art of Preservation.“ The event has been generously supported by HKB Institute Materiality in Art and Culture and will be followed by a discussion. \nToday’s challenges in dealing with the legacy of contemporary artists require new structural models for preservation and are leading to a radical shift of our western memory culture. Based on her own experience of working with the estate of German conceptual artist Anna Oppermann (1943-1992)\, Anna Schäffler argues that rather than conserve once and forever a given material state\, we need new\, cooperative forms of preservation that allow for the further evolution and change of a work of art in line with the artistic concept. In the wake of the dissolution of the arts in the 1960s the kind of preservation she proposes amounts to a new dissolution: Given that so-called „networks of care“ take on preservation tasks leads to a profound restructuring of museums in their function as repositories of memory and reveals the instituent potential of contemporary art preservation. In elevating preservation to a condition of contemporary art\, Anna suggests a radical perspective on preservation practices enabling the contemporaneity of contemporary art in the atomic age. \nThis online lecture\, which will take place in English\, features a presentation of Schäffler’s recent book\, „Die Kunst der Erhaltung. Anna Oppermanns Ensembles\, zeitgenössische Restaurierung und Nachlasspraxis im Wandel“ (München: edition metzel\, 2021\, in German). English translation of the title: The Art of Preservation: Anna Oppermann’s Ensembles\, Contemporary Conservation and Artists Estates in Transition. \n  \nDr. Anna Schäffler is an art historian and curator based in Berlin. Her research on the contemporary preservation of art and cultural assets includes theory and practice at the intersection of art history\, conservation\, and curating. In 2019 Anna was junior fellow at the Free University of Berlin with a research project on artists‘ estates. In 2021\, she received a grant from the Berlin Senate to research autonomous strategies for preserving and archiving contemporary art practices. Beyond her academic research Anna develops long-term preservation strategies for and with artists as well as private and public institutions. \nThis event is free\, but you will need to register in order to attend. A Zoom link will be distributed to attendees before the event.
URL:https://www.restauratoren.de/termin/the-art-of-preservation-research-seminar/
CATEGORIES:Externe Veranstaltung
END:VEVENT
BEGIN:VEVENT
DTSTART;TZID=Europe/Paris:20221222T143000
DTEND;TZID=Europe/Paris:20221222T160000
DTSTAMP:20260425T011909
CREATED:20221213T191852Z
LAST-MODIFIED:20221213T195513Z
UID:10001650-1671719400-1671724800@www.restauratoren.de
SUMMARY:Rettung der Nepomuk-Brücke in Rech
DESCRIPTION:13.12.2022\nDie Deutsche Stiftung Denkmalschutz bittet um Unterstützung: \n\n\nSehr geehrte Damen und Herren aus Rech\, der verbündeten Vereine\, Unterstützer und Unterstützerinnen\, vom Denkmalschutzbündnis\,\ndie vier denkmalgeschützten Brücken im Ahrtal sind massiv vom Abriss bedroht. Besonders akut ist die Nepomuk-Brücke in Rech gefährdet: der Ortsbürgermeister von Rech hat angekündigt\, dass die Gemeinde den  Abriss der Nepomuk-Brücke nun vollziehen wird – wahrscheinlich schon im Januar 2023! Ein Abbruch ist nicht erforderlich\, das zeigen Gutachten (Sie finden die Gutachten unter folgendem Link: https://www.denkmalschutz.de/presse/denkmale-in-gefahr.html.) Der Erhalt und Hochwasserschutz sind in einem Gesamtkonzept zu sehen\, das den gesamten Ahrverlauf umfasst. Vielmehr sind Sicherungsmaßnahmen erforderlich und Konzepte zur Gefahrenabwehr. \n\n\n\n\nHier müssen wir ein Zeichen setzen und benötigen daher Ihre Unterstützung! \nAm Donnerstag\, den 22. Dezember 2022\, wollen wir von 15 bis 16 Uhr an der Nepomuk-Brücke in Rech eine Mahnwache abhalten. Bitte machen Sie mit! Es wäre schön\, wenn Sie dazu in schwarz gekleidet erscheinen könnten. Dabei werden wir Kerzen und voraussichtlich auch einige Transparente halten.\nBitte teilen Sie uns doch kurz mit\, ob Sie teilnehmen werden (bitte an eva.masthoff(at)denkmalschutz.de). Es wäre sehr hilfreich\, wenn Sie uns dies bis Montag\, den 19.12. mitteilen könnten\, damit wir die Organisation entsprechend auslegen können. Treffpunkt in Rech ist 14:30 Uhr direkt an der Nepomukbrücke. \nAuch wenn dieser Termin sehr nah an den lang ersehnten Weihnachtsfeiertagen liegt: für eine Mahnwache im neuen Jahr kann es schon zu spät sein. Deswegen würden wir uns wirklich sehr freuen\, wenn Sie sich diesen Termin dennoch einrichten können. Aktuell warten wir übrigens noch auf die Genehmigung der Mahnwache – und hoffen\, dass es hier keine bösen Überraschungen gibt. \nWenn Sie weitere Unterstützer und Unterstützerinnen informieren\, motivieren oder mitnehmen wollen und können\, verbreiten Sie diese Nachricht gern in Ihrem Kreis. \n\n\n\n\nVielen herzlichen Dank schon jetzt im Voraus für Ihren Einsatz!
URL:https://www.restauratoren.de/termin/rettung-der-nepomuk-bruecke-in-rech/
LOCATION:Nepomuk-Brücke Rech\, Rech\, 53506\, Deutschland
CATEGORIES:Externe Veranstaltung
END:VEVENT
END:VCALENDAR