BEGIN:VCALENDAR
VERSION:2.0
PRODID:-//Verband der Restauratoren VDR - ECPv6.15.15//NONSGML v1.0//EN
CALSCALE:GREGORIAN
METHOD:PUBLISH
X-WR-CALNAME:Verband der Restauratoren VDR
X-ORIGINAL-URL:https://www.restauratoren.de
X-WR-CALDESC:Veranstaltungen für Verband der Restauratoren VDR
REFRESH-INTERVAL;VALUE=DURATION:PT1H
X-Robots-Tag:noindex
X-PUBLISHED-TTL:PT1H
BEGIN:VTIMEZONE
TZID:Europe/Paris
BEGIN:DAYLIGHT
TZOFFSETFROM:+0100
TZOFFSETTO:+0200
TZNAME:CEST
DTSTART:20250330T010000
END:DAYLIGHT
BEGIN:STANDARD
TZOFFSETFROM:+0200
TZOFFSETTO:+0100
TZNAME:CET
DTSTART:20251026T010000
END:STANDARD
BEGIN:DAYLIGHT
TZOFFSETFROM:+0100
TZOFFSETTO:+0200
TZNAME:CEST
DTSTART:20260329T010000
END:DAYLIGHT
BEGIN:STANDARD
TZOFFSETFROM:+0200
TZOFFSETTO:+0100
TZNAME:CET
DTSTART:20261025T010000
END:STANDARD
BEGIN:DAYLIGHT
TZOFFSETFROM:+0100
TZOFFSETTO:+0200
TZNAME:CEST
DTSTART:20270328T010000
END:DAYLIGHT
BEGIN:STANDARD
TZOFFSETFROM:+0200
TZOFFSETTO:+0100
TZNAME:CET
DTSTART:20271031T010000
END:STANDARD
END:VTIMEZONE
BEGIN:VEVENT
DTSTART;VALUE=DATE:20261007
DTEND;VALUE=DATE:20261010
DTSTAMP:20260426T032227
CREATED:20260415T191303Z
LAST-MODIFIED:20260422T082211Z
UID:10002282-1791331200-1791590399@www.restauratoren.de
SUMMARY:Save the Date: Workshop "Polsterkonservierung"
DESCRIPTION:Bildnachweis: Detail eines Polstermöbels. © Staatliche Schlösser und Gärten Baden-Württemberg. Foto: Paula Steinborn\, 2023.\n\n	Die Arbeitsgruppe Polster im VDR lädt vom 07.-09.10.2026 zum nächsten Workshop „Polsterkonservierung – Dokumentation und Erhaltung historischer Polsterungen“ ein. Unter Leitung von Nadine Kilchhofer findet die Veranstaltung diesmal in der Klassik Stiftung Weimar statt. \nDieser praxisorientierte Workshop vermittelt fundiertes Wissen zur Untersuchung\, Dokumentation und Konservierung historischer Polstermöbel. \n \nMit einer Einführung zum Aufbau von Polsterungen\, verwendeten Materialien und Techniken sowie der Entwicklung von Polsterungen vom 17. bis ins 20. Jahrhundert legen wir die Grundlage für Untersuchung\, Dokumentation und Einordnung von gepolsterten Museumsobjekten. Es werden Prinzipien und Methoden der Polsterkonservierung vermittelt\, ihre Möglichkeiten und Grenzen diskutiert. \nAn historischen Polstermöbeln können das Untersuchen\, Dokumentieren und das Erstellen von Konservierungskonzepten praktisch umgesetzt und geübt werden. \nDer Workshop richtet sich an Restaurator:innen\, die mit historischen Polstermöbeln in Museen und Sammlungen arbeiten. \nMerken Sie sich jetzt schon den Termin vor. Weitere Infos folgen…\n	Partner \nDie Veranstaltung wird vom VDR mit freundlicher Unterstützung der Klassik Stiftung Weimar ausgerichtet.
URL:https://www.restauratoren.de/termin/workshop-polsterkonservierung-2026/
LOCATION:Klassik Stiftung Weimar\, Ettersburger Straße 63\, Weimar\, Thüringen\, 99427\, Germany
CATEGORIES:AG Polster,FG Textil,Save the Date,VDR-Veranstaltung,VDR-Weiterbildung,Workshop
ATTACH;FMTTYPE=image/jpeg:https://www.restauratoren.de/wp-content/uploads/2025/03/Titel_Polster_Workshop_2025_©SSG_Foto_Paula_Steinborn_2023-scaled.jpg
ORGANIZER;CN="VDR":MAILTO:veranstaltungen@restauratoren.de
END:VEVENT
END:VCALENDAR