BEGIN:VCALENDAR
VERSION:2.0
PRODID:-//Verband der Restauratoren VDR - ECPv6.15.15//NONSGML v1.0//EN
CALSCALE:GREGORIAN
METHOD:PUBLISH
X-WR-CALNAME:Verband der Restauratoren VDR
X-ORIGINAL-URL:https://www.restauratoren.de
X-WR-CALDESC:Veranstaltungen für Verband der Restauratoren VDR
REFRESH-INTERVAL;VALUE=DURATION:PT1H
X-Robots-Tag:noindex
X-PUBLISHED-TTL:PT1H
BEGIN:VTIMEZONE
TZID:Europe/Paris
BEGIN:DAYLIGHT
TZOFFSETFROM:+0100
TZOFFSETTO:+0200
TZNAME:CEST
DTSTART:20230326T010000
END:DAYLIGHT
BEGIN:STANDARD
TZOFFSETFROM:+0200
TZOFFSETTO:+0100
TZNAME:CET
DTSTART:20231029T010000
END:STANDARD
BEGIN:DAYLIGHT
TZOFFSETFROM:+0100
TZOFFSETTO:+0200
TZNAME:CEST
DTSTART:20240331T010000
END:DAYLIGHT
BEGIN:STANDARD
TZOFFSETFROM:+0200
TZOFFSETTO:+0100
TZNAME:CET
DTSTART:20241027T010000
END:STANDARD
BEGIN:DAYLIGHT
TZOFFSETFROM:+0100
TZOFFSETTO:+0200
TZNAME:CEST
DTSTART:20250330T010000
END:DAYLIGHT
BEGIN:STANDARD
TZOFFSETFROM:+0200
TZOFFSETTO:+0100
TZNAME:CET
DTSTART:20251026T010000
END:STANDARD
END:VTIMEZONE
BEGIN:VEVENT
DTSTART;VALUE=DATE:20240106
DTEND;VALUE=DATE:20240108
DTSTAMP:20260425T010351
CREATED:20230929T173724Z
LAST-MODIFIED:20241004T120841Z
UID:10001777-1704499200-1704671999@www.restauratoren.de
SUMMARY:6. Vorpraktikant:innentreffen des VDR 2024
DESCRIPTION:Es ist wieder soweit! Zum sechsten Mal lädt die VDR-Interessengruppe Restauratoren in Ausbildung (RiA) zum Vorpraktikant*innentreffen über Zoom ein. Am Wochenende des 06. und 07.01.2024 soll\, wie jedes Jahr\, auf den Start ins Restaurator*innenleben vorbereitet werden. Die IG RiA möchte mit der Online-Veranstaltung deutschlandweit Vorpraktikant*innen und Interessierten für das Studienfach der Konservierung und Restaurierung einen ersten Austausch untereinander ermöglichen. \n \nZiel ist es\, den Teilnehmer*innen der Veranstaltung\, Raum für ihre Fragen zum Studium und dem Vorpraktikum zu geben und sie bei möglichen Unsicherheiten in der Bewerbungsphase für das Studium zu unterstützen. Dafür werden am Samstag den 6. Januar Workshops rund um die Bewerbung und Eignungsprüfungen an den Hochschulen angeboten und kleine Aufgabenstellungen für die Teilnehmer*innen vorbereitet. \nDer 2. Veranstaltungstag widmet sich der Vorstellung der Hochschulen\, die den Studiengang Konservierung und Restaurierung im deutschsprachigen Raum anbieten. Ein Online Speed-Dating mit studentischen Vertreter*innen der jeweiligen Hochschulen soll die Möglichkeit geben\, sich einen Überblick über die Studienangebote zu verschaffen und Fragen direkt an Studierende zu richten. \nDie IG RiA freut sich auf viele interessierte Teilnehmer*innen und darauf\, Euch bei Eurem nächsten Schritt in der Ausbildung zu Restaurator*innen unterstützen zu dürfen! \n	Programm  (als PDF) \nSamstag\, 06.01.2024 \n09:45                     Begrüßung und Vorstellung der Interessengruppe RiA \n10:00                     Online-Workshop: Naturwissenschaften \n11:30                     Pause \n11:45                     Online-Workshop: Retusche\, praktische Aufgabenstellungen \n12:15                     Mittagspause \n13:00                     Online-Workshop: Bewerbungsmappe \n14:00                     Online-Workshop: Praktikumsbericht und Dokumentation \n14:30                     Pause \n14:45                     Online-Workshop: Objektbetrachtung \nca. 16:15               Ende \n  \nSonntag\, 07.01.2024 \nab 10:00               Online-Speed-Dating mit Studierendenvertreter*innen der verschiedenen Hochschulen \n10:00                     Fachhochschule Potsdam \n10:30                     Hochschule der Künste Bern \n11:00                     Universität für angewandte Kunst Wien \n11:30                     Akademie der bildenden Künste Wien \n12:00                     Hochschule für Technik und Wirtschaft Berlin \n12:30                     Göring Institut \n12:55                     Pause \n13:30                     Hochschule für angewandte Wissenschaft und Kunst Hildesheim \n14:00                     Technische Hochschule Köln \n14:30                     Hochschule für Bildende Künste Dresden \n15:00                     Akademie der Bildenden Künste Stuttgart \nca. 15:30               Ende \n	Anmeldung \nAnmeldeschluss: 20. Dezember 2023 \nDie Veranstaltung ist kostenfrei.\n\nDer Versand der Übungsunterlagen ist zu diesem Zeitpunkt bereits abgeschlossen. Sollten Sie sich nach dem 11.12.2023 anmelden werden Ihnen die Unterlagen ggf. digital zugeschickt. \nMit Absenden der Online-Anmeldung ist Ihre Anmeldung verbindlich. Sie erhalten eine automatisierte Anmeldebestätigung an die von Ihnen angegebene E-Mail-Adresse. Die Bestätigung enthält Ihre Anmeldedaten sowie weitere Informationen. Sollten Sie innerhalb von 24 Stunden keine E-Mail erhalten\, kontaktieren Sie uns bitte unter Vorpraktikantentreffen.ria[at]gmail.com \n		Nutzen Sie zur Anmeldung das Special mit dem Willkommensgeschenk!\n			\n							Veranstaltung-Special\n					\n	\n				Zur Veranstaltungsanmeldung\n			\n	Hinweise \nDas Webinar findet online via Zoom statt. Die Zugangsdaten versenden wir ca. 1 Tag vor Beginn der Veranstaltung per E-Mail. \n	Kontakt \nBei Fragen und Anregungen melden Sie sich bitte bei der IG RiA unter Vorpraktikantentreffen.ria[at]gmail.com oder info-ria[at]vdr.restauratoren.de. \n	Bildnachweis \nFoto: Mara Emprechtinger
URL:https://www.restauratoren.de/termin/6-vdr-vorpraktikantinnentreffen-2024/
LOCATION:online
CATEGORIES:IG RiA,Save the Date,VDR-Veranstaltung
ATTACH;FMTTYPE=image/jpeg:https://www.restauratoren.de/wp-content/uploads/2023/09/Titel_6.VPT_IGRiA_2024_Foto_Mara_Emprechtinger.jpg
END:VEVENT
BEGIN:VEVENT
DTSTART;VALUE=DATE:20240119
DTEND;VALUE=DATE:20240121
DTSTAMP:20260425T010351
CREATED:20230426T155310Z
LAST-MODIFIED:20240212T082552Z
UID:10001729-1705622400-1705795199@www.restauratoren.de
SUMMARY:2. Steintage Wolfenbüttel 2024
DESCRIPTION:Die Fachgruppe Steinkonservierung im VDR plant am 19. und 20.01.2024 bereits ihre nächste Tagung zur Steinkonservierung: die Steintage 2024. Es geht nach einem gelungenen Auftakt in 2023 wieder nach Wolfenbüttel .\n\nUnterschiedliche Vorträge zu interessanten Restaurierungs- und Forschungsprojekten mit steinkonservatorischer Problematik\, Darstellungen von herausfordernden Konservierungsthemen\, die einen fachlichen Austausch anregen\, füllen das Programm am 20.01.2024. Sowohl abgeschlossene als auch gerade in der Planung oder Voruntersuchung befindliche Projekte sowie auch Erkenntnisse und Erfahrungen mit alten und neuen Restaurierungsmaterialien werden ebenfalls Thema der nächsten Tagung sein. \nAm Vortag der Fachtagung\, am 19.01.2023\, wird ein Kartierungsworkshop mit metigoMAP angeboten. Das Abendprogramm umfasst eine kulturelle ortsbezogene Attraktion und die Möglichkeit eines gemeinsamen Restaurantbesuches. \nDas Format „Steintage“ beinhaltet ein breit gefächertes Themenangebot\, es wird regelmäßig stattfinden und zur Kontaktpflege unter den Gruppenmitgliedern und auch externen Fachleuten sowie zum fachlichen Austausch einladen. \n	Sponsoring \n	Wir danken herzlich unserem Sponsor fokus GmbH Leipzig für die finanzielle Unterstützung der Fachtagung. Die Firma wird auch während der Tagung mit\neinem Infostand vertreten sein und einen metigo® Map-Workshop anbieten.\n				\n				\n				\n	Programm \nDas Programm finden Sie hier als PDF. \n	Anmeldung und Preise \nAnmeldeschluss: 14. Januar 2024 \nDie Teilnehmendenzahl ist auf max. 181 Personen begrenzt.\n(insgesamt mit Referent:innen\, Gäst:innen und Organisator:innen 199 Personen)\n\nMit Absenden der Online-Anmeldung ist Ihre Anmeldung verbindlich. Sie erhalten eine automatisierte Anmeldebestätigung an die von Ihnen angegebene E-Mail-Adresse. Die Bestätigung enthält die Zahlungsaufforderung der Veranstaltungsgebühren\, Ihre Anmeldedaten sowie weitere Informationen. Sollten Sie innerhalb von 24 Stunden keine E-Mail erhalten\, kontaktieren Sie uns bitte unter veranstaltungen[at]restauratoren.de. Bitte prüfen Sie auch Ihren Spam-Ordner. \n	Tagung\n	Early Bird Ticket bis 07.01.2024 \n119 € VDR-Mitglied*\n119 € Mitglied* (ÖRV\, SKR oder VRKS-ARCA)\n149 € Nicht-Mitglied\n39 € VDR-Mitglied in Ausbildung**\n39 € Mitglied in Ausbildung** (ÖRV\, SKR oder VRKS-ARCA)\n69 € Nicht-Mitglied in Ausbildung**\n	Ticket 08.01.2024 bis 14.01.2024 \n149 € VDR-Mitglied*\n149 € Mitglied* (ÖRV\, SKR oder VRKS-ARCA)\n179 € Nicht-Mitglied\n69 € VDR-Mitglied in Ausbildung**\n69 € Mitglied in Ausbildung** (ÖRV\, SKR oder VRKS-ARCA)\n99 € Nicht-Mitglied in Ausbildung**\n	* Korrespondierende Mitglieder und Fördermitglieder können durch jeweils 1 Person auf Veranstaltungen vertreten werden.\n** Praktikant:innen\, Studierende\n \nDie Kaffeepausenverpflegung ist in der Veranstaltungsgebühr enthalten. Für die Mittagspause sind ausreichend Lokalitäten rund um den Veranstaltungsort zu finden. Sie erhalten im Tagungsbüro eine Liste mit einer Auswahl an Restaurants.\nDie Führung ist kostenfrei im Rahmen der Tagung. \n	Workshop\n	Ticket bis 14.01.2024:  \n50\,00 € \nDie Teilnehmendenzahl ist auf max. 20 Personen begrenzt. \nmetigo® Map\nGunnar Siedler\, Fokus GmbH Leipzig\n„Einführung in digitale Kartierung mit metigo MAP – Bildentzerrung\, Kartierung\, Mengenermittlung“\nEine Teilnahme ist auch ohne Buchung der Tagung möglich. \nDie Kaffeepausenverpflegung ist in der Veranstaltungsgebühr enthalten. Für die Mittagspause sind ausreichend Lokalitäten rund um den Veranstaltungsort zu finden. Sie erhalten im Tagungsbüro eine Liste mit einer Auswahl an Restaurants. \n		Nutzen Sie das Angebot und nehmen zum günstigeren Mitgliedertarif teil!\n			\n							Tagung-Special\n					\n	\n				Zur Veranstaltungsanmeldung\n			\n	Veranstaltungsort \nSchloss Wolfenbüttel\nRenaissancesaal\nSchloßplatz 13\n38304 Wolfenbüttel\n	Kontakt \nBei Fragen melden Sie sich bitte beim Veranstaltungsteam der VDR Geschäftsstelle unter veranstaltungen[at]restauratoren.de oder unter der Telefonnummer +49 228 926897-13 (Julia Kun\, Montag-Mittwoch) oder -14 (Henrike Steinweg\, Donnerstag-Freitag). \n	Bildnachweis \nTitelbild: Bissendorf\, Grabplatte des 18. Jh. Foto: Beate Skasa-Lindermeir.
URL:https://www.restauratoren.de/termin/steintage-wolfenbuettel-2024-tagung-zur-steinkonservierung/
LOCATION:Renaissancesaal im Schloss Wolfenbüttel\, Schloßplatz 13\, Wolfenbüttel\, Niedersachsen\, 38304
CATEGORIES:FG Steinkonservierung,Save the Date,VDR-Veranstaltung
ATTACH;FMTTYPE=image/jpeg:https://www.restauratoren.de/wp-content/uploads/2023/04/Titelbild_Steintage_Tagung_2024_Foto_Beate-Skasa-Lindermeir.jpg
ORGANIZER;CN="VDR":MAILTO:veranstaltungen@restauratoren.de
END:VEVENT
END:VCALENDAR