BEGIN:VCALENDAR
VERSION:2.0
PRODID:-//Verband der Restauratoren VDR - ECPv6.15.15//NONSGML v1.0//EN
CALSCALE:GREGORIAN
METHOD:PUBLISH
X-ORIGINAL-URL:https://www.restauratoren.de
X-WR-CALDESC:Veranstaltungen für Verband der Restauratoren VDR
REFRESH-INTERVAL;VALUE=DURATION:PT1H
X-Robots-Tag:noindex
X-PUBLISHED-TTL:PT1H
BEGIN:VTIMEZONE
TZID:Europe/Paris
BEGIN:DAYLIGHT
TZOFFSETFROM:+0100
TZOFFSETTO:+0200
TZNAME:CEST
DTSTART:20220327T010000
END:DAYLIGHT
BEGIN:STANDARD
TZOFFSETFROM:+0200
TZOFFSETTO:+0100
TZNAME:CET
DTSTART:20221030T010000
END:STANDARD
BEGIN:DAYLIGHT
TZOFFSETFROM:+0100
TZOFFSETTO:+0200
TZNAME:CEST
DTSTART:20230326T010000
END:DAYLIGHT
BEGIN:STANDARD
TZOFFSETFROM:+0200
TZOFFSETTO:+0100
TZNAME:CET
DTSTART:20231029T010000
END:STANDARD
BEGIN:DAYLIGHT
TZOFFSETFROM:+0100
TZOFFSETTO:+0200
TZNAME:CEST
DTSTART:20240331T010000
END:DAYLIGHT
BEGIN:STANDARD
TZOFFSETFROM:+0200
TZOFFSETTO:+0100
TZNAME:CET
DTSTART:20241027T010000
END:STANDARD
END:VTIMEZONE
BEGIN:VEVENT
DTSTART;VALUE=DATE:20230604
DTEND;VALUE=DATE:20230605
DTSTAMP:20260426T041854
CREATED:20230417T145350Z
LAST-MODIFIED:20230417T145350Z
UID:10001723-1685836800-1685923199@www.restauratoren.de
SUMMARY:CALL FOR PAPERS: Steintage Wolfenbüttel 2024
DESCRIPTION:Die Fachgruppe Steinkonservierung des Restauratorenverbandes VDR plant am 19. und 20.01.2024 erneut eine Tagung zur Steinkonservierung: die Steintage 2024. Es geht in die zweite Runde nach einem gelungenen Auftakt in diesem Jahr. \nGefragt sind Vorträge zu interessanten Restaurierungs- und Forschungsprojekten mit steinkonservatorischer Problematik\, Darstellungen von herausfordernden Konservierungsthemen\, die einen fachlichen Austausch anregen. Sowohl abgeschlossene als auch gerade in der Planung oder Voruntersuchung befindliche Projekte sind willkommene Themen sowie auch Erkenntnisse und Erfahrung mit alten und neuen Restaurierungsmaterialien. \nDas Format „Steintage“ soll ein breit gefächertes Themenangebot beinhalten\, regelmäßig stattfinden und zur Kontaktpflege unter den Gruppenmitgliedern und auch externen Fachleuten und zum fachlichen Austausch einladen. \nWir freuen uns auf Ihre Einsendungen! \nBitte zögern Sie bitte nicht\, diesen Aufruf großzügig zu verteilen – Vielen Dank! \nCall for Papers \nEinsendeschluss für Abstracts: 4. Juni 2023 \nBitte senden Sie Ihren Beitrag an steinkonservierung[at]vdr.restauratoren.de \nAlle weiteren Informationen zum Call for Papers finden Sie in der PDF zum Download.  \nVeranstaltungsort \nSchloss WolfenbüttelRenaissancesaalSchloßplatz 1338304 Wolfenbüttel \nKontakt \nBei Fragen melden Sie sich bitte beim Tagungsteam unter steinkonservierung[at]vdr.restauratoren.de \nSprecherinnenteam der VDR Fachgruppe Steinkonservierung \nBeate Skasa-Lindermeir\, Franziska Müller\, Dr. Wanja Wedekind \nBildnachweis \nTitelbild: Bissendorf\, Grabplatte des 18. Jh. Foto: Beate Skasa-Lindermeir.
URL:https://www.restauratoren.de/termin/call-for-papers-steintage-wolfenbuettel-2024/
LOCATION:Renaissancesaal im Schloss Wolfenbüttel\, Schloßplatz 13\, Wolfenbüttel\, Niedersachsen\, 38304
CATEGORIES:Call for Papers,FG Steinkonservierung,VDR-Veranstaltung
ATTACH;FMTTYPE=image/jpeg:https://www.restauratoren.de/wp-content/uploads/2023/04/Titelbild_Steintage_Tagung_2024_Foto_Beate-Skasa-Lindermeir.jpg
ORGANIZER;CN="VDR":MAILTO:veranstaltungen@restauratoren.de
END:VEVENT
END:VCALENDAR