BEGIN:VCALENDAR
VERSION:2.0
PRODID:-//Verband der Restauratoren VDR - ECPv6.15.15//NONSGML v1.0//EN
CALSCALE:GREGORIAN
METHOD:PUBLISH
X-WR-CALNAME:Verband der Restauratoren VDR
X-ORIGINAL-URL:https://www.restauratoren.de
X-WR-CALDESC:Veranstaltungen für Verband der Restauratoren VDR
REFRESH-INTERVAL;VALUE=DURATION:PT1H
X-Robots-Tag:noindex
X-PUBLISHED-TTL:PT1H
BEGIN:VTIMEZONE
TZID:Europe/Paris
BEGIN:DAYLIGHT
TZOFFSETFROM:+0100
TZOFFSETTO:+0200
TZNAME:CEST
DTSTART:20250330T010000
END:DAYLIGHT
BEGIN:STANDARD
TZOFFSETFROM:+0200
TZOFFSETTO:+0100
TZNAME:CET
DTSTART:20251026T010000
END:STANDARD
BEGIN:DAYLIGHT
TZOFFSETFROM:+0100
TZOFFSETTO:+0200
TZNAME:CEST
DTSTART:20260329T010000
END:DAYLIGHT
BEGIN:STANDARD
TZOFFSETFROM:+0200
TZOFFSETTO:+0100
TZNAME:CET
DTSTART:20261025T010000
END:STANDARD
BEGIN:DAYLIGHT
TZOFFSETFROM:+0100
TZOFFSETTO:+0200
TZNAME:CEST
DTSTART:20270328T010000
END:DAYLIGHT
BEGIN:STANDARD
TZOFFSETFROM:+0200
TZOFFSETTO:+0100
TZNAME:CET
DTSTART:20271031T010000
END:STANDARD
END:VTIMEZONE
BEGIN:VEVENT
DTSTART;VALUE=DATE:20260607
DTEND;VALUE=DATE:20260608
DTSTAMP:20260420T195356
CREATED:20260402T101715Z
LAST-MODIFIED:20260413T144508Z
UID:10002279-1780790400-1780876799@www.restauratoren.de
SUMMARY:CALL FOR PAPERS: Tagung "Flagge zeigen! Restaurierung von Fahnen und anderen textilen Objekten"
DESCRIPTION:Bildnachweis: Schweizerisches Nationalmuseum\, Inventar-Nr. DIG-50556: DEP-1004.1 \n	Call for Papers: Flagge zeigen! Restaurierung von Fahnen und anderen textilen Objekten3.-5. Juni 2027 | Archäologische Staatssammlung\, München \nDie Fachgruppe Textil im VDR lädt – mit freundlicher Unterstützung der Archäologischen Staatssammlung – zur nächsten Fachtagung ein\, die sich der Restaurierung von Fahnen und textilen Objekten in musealen und durch Nutzung geprägten Kontexten widmet. \nWarum Sie dabei sein sollten \nFahnen sind mehr als textile Objekte – sie sind Träger von Geschichte\, Identität und Emotion. Ihre Restaurierung stellt Fachleute immer wieder vor komplexe Herausforderungen: von fragiler Materialität über intensive Nutzungsspuren bis hin zu sensiblen Fragen der Erhaltung und Präsentation. \nDiese Tagung bietet Ihnen die Möglichkeit\, \n\naktuelle Entwicklungen und Lösungsansätze kennenzulernen\,\nsich mit Kolleg:innen aus Praxis\, Forschung und Institutionen auszutauschen\,\nneue Perspektiven auf ein vielseitiges und hochrelevantes Arbeitsfeld zu gewinnen.\n\n \nGestalten Sie das Programm mit! \nBringen Sie Ihre Expertise ein und werden Sie Teil des Programms. Gesucht werden Beiträge aus der Praxis\, Forschung und Theorie – sowohl zu unserem Schwerpunktthema Fahnen als auch darüber hinaus. \nMögliche Themenfelder: \n\ntypische Schadensbilder und konservatorische Herausforderungen bei Fahnen\nPraxisberichte und Fallstudien\nUmgang mit historischen Restaurierungen\nMaterialanalysen und naturwissenschaftliche Untersuchungen\nKonzepte für Präsentation und Aufbewahrung\nDokumentationsmethoden\nKommunikation mit Eigentümer:innen und Nutzungskontexte\n\nEin weiterer Fokus liegt zudem auf der Textilrestaurierung in der Archäologie – gerne in Anknüpfung an die letzte Tagung „Neu verflechten!“ mit weiteren Fragestellungen oder neuen Impulsen. \nAuch Beiträge zu anderen Bereichen der Textilrestaurierung sind willkommen. \n	Call for Papers \nEinsendeschluss für Abstracts: 7. Juni 2026 \nSie erhalten bis Ende Juli 2026 Rückmeldung von uns. \nBitte senden Sie Ihren Beitrag an textil[at]vdr.restauratoren.de \nAlle weiteren Informationen zum Call for Papers finden Sie in der PDF zum Download. \n	Organisationsteam \nSprecherinnenteam der Fachgruppe Textil\nNadine Schönhütte\, Bettina Voitsch-Leppin\, Nadine Kilchhofer\nBei Fragen wenden Sie sich bitte an das Organisationsteam unter textil[at]vdr.restauratoren.de \n	Partner \nDie Veranstaltung wird vom VDR mit freundlicher Unterstützung der Archäologischen Staatssammlung ausgerichtet.
URL:https://www.restauratoren.de/termin/call-for-papers-textilrestaurierung-fahnen-tagung-2027/
LOCATION:Archäologische Staatssammlung\, Lerchenfeldstraße 2\, München\, Bayern\, 80538\, Germany
CATEGORIES:Call for Papers,FG Textil,VDR-Veranstaltung,VDR-Weiterbildung
ATTACH;FMTTYPE=image/png:https://www.restauratoren.de/wp-content/uploads/2026/04/Titel_Textil_Tag_2027_Foto_Schweizerisches-Nationalmuseum.png
ORGANIZER;CN="Verband der Restaurator%3Ainnen (VDR) e. V.":MAILTO:veranstaltungen@restauratoren.de
END:VEVENT
BEGIN:VEVENT
DTSTART;VALUE=DATE:20260618
DTEND;VALUE=DATE:20260620
DTSTAMP:20260420T195356
CREATED:20251022T093322Z
LAST-MODIFIED:20260402T150639Z
UID:10002188-1781740800-1781913599@www.restauratoren.de
SUMMARY:Fachtagung "Restaurierung industrieller Kulturgüter: Praxis\, Probleme\, Perspektiven"
DESCRIPTION:Bildnachweis: Vorwähler des Wählergestell System 22 von Siemens & Halske nach der Brandschadenreinigung\, Objektsammlung Deutsches Museum Inv.Nr. 2003-463. Foto: Lisa Heyn.\n\n	Einladung zur  Fachtagung „Restaurierung industrieller Kulturgüter – Praxis\, Probleme\, Perspektiven“18.-19. Juni 2026 | Verkehrszentrum\, Deutsches Museum München\nDie Fachgruppe Industrielles Kulturgut / Kulturgut der Moderne (IKKM) im VDR lädt herzlich zur nächsten Fachtagung nach München ein.\nIm Mittelpunkt stehen zwei thematische Schwerpunkte: \n\nBaustellen\, Sammlungsumzüge und der praktische Umgang mit technischem Kulturgut werden aus unterschiedlichen Perspektiven beleuchtet. Hier werden Erfahrungen aus dem beruflichen Alltag und praxisnahe Lösungsansätze vorgestellt.\nSchadstoffe\, rechtliche Aspekte und der Umgang mit Gefahrstoffen wie Asbest\, Batterien\, radioaktiven Stoffen und Waffen in Sammlungen bilden einen weiteren Schwerpunkt.\n\nFreuen Sie sich auf praxisorientierte Vorträge\, inspirierende Diskussionsformate und vielfältige Möglichkeiten zum fachlichen Austausch\, zur Reflexion und zum Entwickeln neuer Perspektiven. \n	Tagungsteam \nSprecherinnenteam der Fachgruppe IKKM\nKathrin Strobl\, Katrin Kaminski\, Lisa Heyn\n	Programm \nDas Programm finden Sie hier als PDF. \n	Anmeldung und Preise \nAnmeldeschluss: 9. Juni 2026 \nDie Teilnehmendenzahl ist auf max. 200 Personen begrenzt (insgesamt mit allen Teilnehmenden 175 Personen).\n\nWichtige Hinweise zur Anmeldung:\nMit Absenden des Online-Formulars ist Ihre Anmeldung verbindlich – unabhängig vom Zahlungseingang.\nSie erhalten eine automatische Bestätigung per E-Mail mit der Zahlungsabwicklung\, Ihren Anmeldedaten und weiteren Infos. Bitte prüfen Sie auch Ihren Spam-Ordner.\nFalls keine Bestätigung innerhalb von 24 Stunden eintrifft\, kontaktieren Sie uns bitte: veranstaltungen[at]restauratoren.de\n		PRÄSENZ: Reguläres Ticket >> bis 09.06.2026		\n125 € VDR-Mitglied*\n125 € Mitglied* (ÖRV\, SKR oder VRKS-ARCA)\n160 € Nicht-Mitglied\n40 € VDR-Mitglied in Ausbildung**\n40 € Mitglied in Ausbildung** (ÖRV\, SKR oder VRKS-ARCA)\n75€ Nicht-Mitglied in Ausbildung**\n	* Korrespondierende Mitglieder und Fördermitglieder können durch jeweils 1 Person auf Veranstaltungen vertreten werden.\n** Praktikant:innen\, Studierende\, Volontär:innen\nDie Kaffeepausenverpflegung ist in der Veranstaltungsgebühr enthalten.Für die Mittagspause stehen rund um den Veranstaltungsort zahlreiche Gastronomieangebote zur Verfügung. Eine Auswahlliste erhalten Sie vorab. \nGet-together: Bei Interesse ist eine verbindliche Anmeldung erforderlich. Die Teilnahme erfolgt auf Selbstzahler:inbasis.\n		Nutzen Sie das Angebot und nehmen zum günstigeren Mitgliedertarif teil!\n			\n							Tagung-Special
URL:https://www.restauratoren.de/termin/fachtagung-restaurierung-industrieller-kulturgueter-2026/
LOCATION:Verkehrszentrum – Deutsches Museum\, Am Bavariapark 5\, München\, Bayern\, 80339\, Germany
CATEGORIES:Fachgruppe Industrielles Kulturgut/Kulturgut der Moderne,Save the Date,VDR-Veranstaltung
ATTACH;FMTTYPE=image/png:https://www.restauratoren.de/wp-content/uploads/2025/06/Titelbild_Tagung_RiK_2026_Foto_Lisa_Heyn.png
ORGANIZER;CN="VDR":MAILTO:veranstaltungen@restauratoren.de
END:VEVENT
END:VCALENDAR