BEGIN:VCALENDAR
VERSION:2.0
PRODID:-//Verband der Restauratoren VDR - ECPv6.15.15//NONSGML v1.0//EN
CALSCALE:GREGORIAN
METHOD:PUBLISH
X-ORIGINAL-URL:https://www.restauratoren.de
X-WR-CALDESC:Veranstaltungen für Verband der Restauratoren VDR
REFRESH-INTERVAL;VALUE=DURATION:PT1H
X-Robots-Tag:noindex
X-PUBLISHED-TTL:PT1H
BEGIN:VTIMEZONE
TZID:Europe/Paris
BEGIN:DAYLIGHT
TZOFFSETFROM:+0100
TZOFFSETTO:+0200
TZNAME:CEST
DTSTART:20220327T010000
END:DAYLIGHT
BEGIN:STANDARD
TZOFFSETFROM:+0200
TZOFFSETTO:+0100
TZNAME:CET
DTSTART:20221030T010000
END:STANDARD
BEGIN:DAYLIGHT
TZOFFSETFROM:+0100
TZOFFSETTO:+0200
TZNAME:CEST
DTSTART:20230326T010000
END:DAYLIGHT
BEGIN:STANDARD
TZOFFSETFROM:+0200
TZOFFSETTO:+0100
TZNAME:CET
DTSTART:20231029T010000
END:STANDARD
BEGIN:DAYLIGHT
TZOFFSETFROM:+0100
TZOFFSETTO:+0200
TZNAME:CEST
DTSTART:20240331T010000
END:DAYLIGHT
BEGIN:STANDARD
TZOFFSETFROM:+0200
TZOFFSETTO:+0100
TZNAME:CET
DTSTART:20241027T010000
END:STANDARD
END:VTIMEZONE
BEGIN:VTIMEZONE
TZID:UTC
BEGIN:STANDARD
TZOFFSETFROM:+0000
TZOFFSETTO:+0000
TZNAME:UTC
DTSTART:20160101T000000
END:STANDARD
END:VTIMEZONE
BEGIN:VEVENT
DTSTART;VALUE=DATE:20230318
DTEND;VALUE=DATE:20230320
DTSTAMP:20260422T201814
CREATED:20221207T180338Z
LAST-MODIFIED:20230328T134529Z
UID:10001645-1679097600-1679270399@www.restauratoren.de
SUMMARY:Seminar "Rund ums Gründen: Basiswissen für Restaurator:innen"
DESCRIPTION:Die Interessengruppe Selbstständige Freiberufler (IGSF) des VDR veranstaltet am Wochenende des 18. und 19.03.2023 zum fünften Mal ein zweitägiges Existenzgründungsseminar. Nach einer pandemiebedingten Online-Veranstaltung wird dieses Seminar wieder in Präsenz mit der freundlichen Unterstützung der Hochschule für Bildende Künste in Dresden stattfinden. \nDas Seminar „Rund ums Gründen“ verfolgt das Ziel\, Absolvent:innen der Konservierungs- und Restaurierungsstudiengänge und Berufseinsteiger:innen praxisbezogene Inhalte zu vermitteln. Diese sollen dabei den Berufsalltag selbstständiger Restaurator:innen mit den tatsächlichen Bedürfnissen widerspiegeln. \nWährend des Seminars werden daher in unterschiedlichen Vorträgen verschiedene Aspekte zur Existenzgründung\, sozialen Absicherung und etwaigen Anfangsschwierigkeiten junger Selbstständiger behandelt oder von erfahrenen Unternehmer:innen über eigene Erfolge und Rückschläge berichtet. \nNeben den Vorträgen bilden drei Workshops in Kleingruppen zu den wichtigen Themen wie Kalkulation\, Akquise und Aufbau einer eigenen Werkstatt / Atelier den Schwerpunkt der Veranstaltung. Für jeden Teilnehmenden besteht dabei die Möglichkeit\, an allen Programmpunkten teilzunehmen. \nDen Abschluss der Veranstaltung bildet Sonntag ein „Mentor:innenlunch“\, das wie auch in den Pausen zu einem angeregten Austausch und Diskussion zwischen den Teilnehmer:innen\, den Referent:innen und Kolleg:innen verschiedener Fachrichtungen einlädt. \nEinen weiteren Einblick erhalten Sie hier im Interview mit Mara Emprechtinger. \nDie IGSF freut sich auf zahlreiche Anmeldungen! \n	Programm \nDas Programm finden Sie hier als PDF. \n	Anmeldung und Preise \nAnmeldeschluss: 7. März 2023 \nDie Teilnehmendenzahl ist auf max. 60 Personen begrenzt.\n(insgesamt mit Referent:innen\, Gästen und Organisator:innen 80 Personen)\n\nMit Absenden der Online-Anmeldung ist Ihre Anmeldung verbindlich. Sie erhalten eine automatisierte Anmeldebestätigung an die von Ihnen angegebene E-Mail-Adresse. Die Bestätigung enthält die Zahlungsaufforderung der Veranstaltungsgebühren\, Ihre Anmeldedaten sowie weitere Informationen. Sollten Sie innerhalb von 24 Stunden keine E-Mail erhalten\, kontaktieren Sie uns bitte unter veranstaltungen@restauratoren.de \n	Tarif  \n175 € VDR-Mitglied*\n175 € Mitglied* (ÖRV\, SKR oder VRKS-ARCA)\n215 € Nicht-Mitglied\n70 € VDR-Mitglied in Ausbildung**\n70 € Mitglied in Ausbildung** (ÖRV\, SKR oder VRKS-ARCA)\n110 € Nicht-Mitglied in Ausbildung**\n		Nutzen Sie das Angebot und nehmen zum günstigeren Mitgliedertarif teil!\n			\n							Seminar-Special\n					\n	* Korrespondierende Mitglieder und Fördermitglieder können durch jeweils 1 Person auf Veranstaltungen vertreten werden.\n** Praktikant:innen\, Studierende\n \nDie Kaffee- und Mittagspausenverpflegung ist in der Veranstaltungsgebühr enthalten. Das Get-Together ist auf Basis von Selbstzahlenden.\n	\n				Zur Veranstaltungsanmeldung\n			\n	Veranstaltungsorte \n	Seminar\nHochschule für Bildende Künste (HfBK)\nGüntzstraße 34\n01307 Dresden\nwww.hfbk-dresden.de\n	Get-Together\nRestaurant „Green & Gloria“\nWilsdruffer Str. 10\n01067 Dresden\nwww.greenandgloria.de\n	Unterkunft \nWir haben ein Zimmerkontingent in einem nahe gelegenen Hotel für den Zeitraum vom 17.-19.03.2023 reserviert. Die Zimmer können unter dem Stichwort „ExSem 2023“ abgerufen werden. Das Kontingent ist bis 24.02.2023 gültig.  \nSeit dem 01.07.2015 erhebt die Stadt Dresden eine Beherbergungssteuer. Bei Dienstreisen entfällt die Steuer mit Vorlage einer Arbeitgeberbescheinigung oder einer Eigenbestätigung für Selbstständige bei Anreise. Das Hotel im Terrassenufer verfügt bereits über eine Bescheinigung durch uns. Sollten Sie ein andere Unterkunft wählen\, kommen Sie gern auf uns zu für eine Bescheinigung. \nHotel am Terrassenufer\nTerrassenufer 12\n01069 Dresden\nTel. +49 3514409500\nhat@hotel-terrassenufer.de\nwww.hotel-terrassenufer.de\n87 € Doppelzimmer\n70 € Einzelzimmer\n(kostenfrei stornierbar bis 2 Tage vor Anreise)\n16 € zzgl. für das Frühstücksbuffet \n	Kontakt \nBei Fragen melden Sie sich bitte beim Veranstaltungsteam der VDR Geschäftsstelle unter veranstaltungen[at]restauratoren.de oder unter der Telefonnummer +49 228 926897-13 (Julia Kun\, Montag bis Mittwoch 10:30-12:30 u. 13-15 Uhr) oder -14 (Henrike Steinweg\, Donnerstag 9-12:30 und 13-15 Uhr sowie Freitag 9-12:30 Uhr). \n	Partnerschaft \n \nDiese Maßnahme wird mitfinanziert mit Steuermitteln auf Grundlage des vom Sächsischen Landtag beschlossenen Haushaltes. \n	Bildnachweis \nExistenzgründungsseminar\, HTW Berlin\, 2016. Foto: Tatjana Held.
URL:https://www.restauratoren.de/termin/seminar-rund-ums-gruenden-basiswissen-fuer-restauratorinnen-2023/
LOCATION:HfBK Dresden\, Güntzstrasse 34\, Dresden\, 01307
CATEGORIES:IG Selbstständige/Freiberufler,Save the Date,VDR-Veranstaltung,VDR-Weiterbildung
ATTACH;FMTTYPE=image/jpeg:https://www.restauratoren.de/wp-content/uploads/2022/12/Titelbild_Rund_ums_Gruenden_Seminar-Reihe_Dresden_2023.jpg
ORGANIZER;CN="VDR":MAILTO:veranstaltungen@restauratoren.de
GEO:51.05274;13.75869
X-APPLE-STRUCTURED-LOCATION;VALUE=URI;X-ADDRESS=HfBK Dresden Güntzstrasse 34 Dresden 01307;X-APPLE-RADIUS=500;X-TITLE=Güntzstrasse 34:geo:13.75869,51.05274
END:VEVENT
BEGIN:VEVENT
DTSTART;VALUE=DATE:20180623
DTEND;VALUE=DATE:20180625
DTSTAMP:20260422T201814
CREATED:20180115T131427Z
LAST-MODIFIED:20180604T130756Z
UID:10000976-1529712000-1529884799@www.restauratoren.de
SUMMARY:StuCo 2018 - international colloquium for students and interns
DESCRIPTION:Sharing Heritage! The StuCo 2018 \nThe “8th Student Colloquium” will take place on the 23rd and 24th June 2018 at the Academy of Fine Arts (HfBK) in Dresden\, Germany.\nDue to the European Cultural Heritage Year 2018 the “Conservator-Restorers in Training (RiA)” would like to offer a possibility of exchange and networking to all European students and interns of conservation- and restoration sciences.\n\nBy sharing our knowledge about the conservation and restoration of heritage\, we are able to preserve our common European cultural heritage. Therefore\, they are very happy to warm-heartedly invite the European neighbors to the annual “Student Colloquium” in Germany for the first time. \nIt is the 8th student colloquium but it will be the first with an international focus. Similarly to the years before the RiA would give you the chance to present your projects you work on at your university. But\, you are also invited to present your posters. \nAs always they invite you to present your projects or work in form of presentations and posters to the mixed group of other students. Apart from the presentations and posters they organise the traditional evening-barbecue. \nThe VDR interest group would be delighted if you would join their event. \n  \nSharing-Heritage! Das Stuko 2018 \nAnlässlich des Europäischen Kulturerbejahrs 2018 (ECHY) möchte die Interessengruppe Restauratoren in Ausbildung (RiA) das jährliche Studierendenkolloquium nutzen\, um Studierende der Restaurierung aus ganz Europa besser zu vernetzen. Der Austausch an Wissen und Erfahrungen soll dazu beitragen\, das gemeinsame europäische Kulturerbe zu erhalten und zu pflegen. \nDas zweitägige Kolloquium wird von Studierenden für Studierende organisiert und findet am 23. und 24. Juni. 2018 an der Hochschule für Bildende Künste (HfBK) in Dresden statt. \nWie auch in den vergangenen Jahren möchten die RiA die Gelegenheit geben Praktika- und Studienprojekte in Form von Präsentationen vorzustellen. Außerdem wird es auch wieder möglich sein wissenschaftliche Poster zu präsentieren. \nZusätzlich möchten die RiA auch in diesem Jahr das Stuko für das Interessengruppentreffen nutzen\, um Projekte zu besprechen und Anregungen für die Zukunft mitzunehmen. \nDie Restauratoren in Ausbildungen freuen sich über eine rege Teilnahme! \nProgram \nRegistration \n1st March – 24th May \nPlease use the online-registration at the end of this site. Participation fees are not charged.\nWe strongly recommend to register as early as possible as the number of participants is limited (max. 120 persons). \nVenue \nAcademy of Fine Arts Dresden (HfBK)  Güntzstraße 34 01307 DresdenGermany \nAccommodation \nIf you need an overnight stay please write an E-Mail to VDRstudentenkolloquium@gmx.de. RiA try to find a place for you to stay with students. \nContact \nPlease do not hesitate to contact the RiA if you have any further questions about the StuCo 2018\nVDRstudentenkolloquium@gmx.de \nWho are RiA? \nThey are the interest group “Conservator-Restorers in Training” (Restauratoren in Ausbildung RiA) in the “German Association of Conservator-Restorers” (Verband der Restauratoren (VDR) e. V.). RiA represent conservation-restoration students and interns of all departments across Germany and support career policy and education subjects. \nPlease do not hesitate to contact them if you have any further questions: info-ria@restauratoren.de \n	\n				Registration form
URL:https://www.restauratoren.de/termin/stuco-2018-international-colloquium-for-students-and-interns/
LOCATION:HfBK Dresden\, Güntzstrasse 34\, Dresden\, 01307
CATEGORIES:Call for Papers,IG RiA,VDR-Veranstaltung
ATTACH;FMTTYPE=image/png:https://www.restauratoren.de/wp-content/uploads/2018/01/StuKo_2018_150.png
GEO:51.05274;13.75869
X-APPLE-STRUCTURED-LOCATION;VALUE=URI;X-ADDRESS=HfBK Dresden Güntzstrasse 34 Dresden 01307;X-APPLE-RADIUS=500;X-TITLE=Güntzstrasse 34:geo:13.75869,51.05274
END:VEVENT
BEGIN:VEVENT
DTSTART;VALUE=DATE:20180302
DTEND;VALUE=DATE:20180304
DTSTAMP:20260422T201814
CREATED:20170922T081758Z
LAST-MODIFIED:20181011T115604Z
UID:10000951-1519948800-1520121599@www.restauratoren.de
SUMMARY:3D – Durchblick oder Datenmüll? Dreidimensionale Scan-Verfahren in der Konservierung/Restaurierung
DESCRIPTION:Der VDR organisiert vom 01.-03. März 2018 mit freundlicher Unterstützung der Hochschule für Bildende Künste Dresden die Fachtagung „3D – Durchblick oder Datenmüll? Dreidimensionale Scan-Verfahren in der Konservierung/Restaurierung“ mit Workshop. \nWelche Chancen bietet ein 3D-Modell für die Arbeit der Restauratoren? Oder ersetzen die digitalen Medien unsere Bemühungen um den Erhalt der originalen Substanz? \nDiesen Fragen soll im Rahmen einer Fachtagung des VDR mit Unterstützung der HfBK Dresden zur Anwendung von 3D-Verfahren in unserem Berufsfeld nachgegangen werden. In Vorträgen zu den technischen Verfahren selbst werden Vor- und Nachteile bewertet und technische Möglichkeiten ausgelotet. Die unterschiedlichen Einsatzgebiete von der Dokumentation dreidimensionaler Objekte über virtuelle Rekonstruktionen bis hin zum Monitoring sollen anhand erfolgreicher Anwendungen beispielhaft vorgestellt werden. \nEin Workshop zur Herstellung eines 3D-Modells mit Hilfe einfacher Tools wird ein Tag vor der Fachtagung am 1. März 2018 angeboten\n(Voraussetzung: eigener Laptop\, mind. Windows 7 Betriebssystem). \n\nTagungsheft mit Programm\n \n\nAnmeldung und Preise \nDie Anmeldefrist für diese Tagung ist abgelaufen.\nDie Teilnehmerzahl ist auf max. 90 Personen begrenzt.\n\n \nMit Absenden der Online-Anmeldung ist Ihre Anmeldung verbindlich. Sie erhalten eine automatisch generierte Registrierungsbestätigung an die angegebene E-Mail-Adresse\, die die Aufforderung zur Zahlung der Veranstaltungsgebühren enthält. Nach Zahlungseingang erhalten Sie per E-Mail Ihren Zahlungsbeleg.\n \n \nFrühbuchertarif verlängert bis 07.02.2018\n160\,00 € VDR-Mitglied\n160\,00 € Mitglied (ÖRV\, SKR oder VRKS-ARCA)\n190\,00 € Nicht-Mitglied\n80\,00 € VDR-Mitglied in Ausbildung\n80\,00 € Mitglied in Ausbildung (ÖRV\, SKR oder VRKS-ARCA)\n110\,00 € Nicht-Mitglied in Ausbildung \nNormaltarif 08.02. – 14.02.2018\n190\,00 € VDR-Mitglied\n190\,00 € Mitglied (ÖRV\, SKR oder VRKS-ARCA)\n225\,00 € Nicht-Mitglied\n110\,00 € VDR-Mitglied in Ausbildung\n110\,00 € Mitglied in Ausbildung (ÖRV\, SKR oder VRKS-ARCA)\n145\,00 € Nicht-Mitglied in Ausbildung \n\nVeranstaltungsort \nHörsaal\, Raum 222 \nHochschule für Bildende Künste (HfBK Dresden)\nGüntzstraße 34\n01307 Dresden \n\nÜbernachtung \nIn folgenden Hotels wurden Zimmerkontingente eingerichtet: \nIbis Hotel Dresden Zentrum    (1 Pers. 69\,00 EUR o. 2 Pers.   79\,00 EUR pro Nacht mit Frühstück)   abrufbar bis 14.02.2018 \nIntercity Hotel Dresden            (1 Pers. 74\,00 EUR o. 2 Pers.   88\,00 EUR pro Nacht mit Frühstück)   abrufbar bis 14.02.2018 \nHotel am Terrassenufer           (1 Pers. 75\,00 EUR o. 2 Pers. 102\,00 EUR pro Nacht mit Frühstück)  abrufbar bis 14.02.2018\nHotel Pullman Dresden Newa (1 Pers. 89\,00 EUR o. 2 Pers. 109\,00 EUR pro Nacht mit Frühstück)  abrufbar bis 31.01.2018 \nDas Kontingent kann unter dem Stichwort kunst2018 abgerufen werden. Es ist ab sofort hier online buchbar. \n\nKontakt\n \nBei Fragen melden Sie sich bitte beim Veranstaltungsteam der VDR Geschäftsstelle unter veranstaltungen(at)restauratoren.de  \n \n \n \n \n \n \n \n\nBildnachweis:\n3D Modell der Stifterfigur Reglindis des Naumburger Meisters\, 13. Jh.\, Naumburger Dom\nbearbeitetes Modell der TUM Institut für Baugeschichte\, Historische Bauforschung und Denkmalpflege
URL:https://www.restauratoren.de/termin/3d-durchblick-oder-datenmuell-2/
LOCATION:HfBK Dresden\, Güntzstrasse 34\, Dresden\, 01307
CATEGORIES:VDR-Veranstaltung
ATTACH;FMTTYPE=image/png:https://www.restauratoren.de/wp-content/uploads/2017/09/3dTagung2018klein.png
GEO:51.05274;13.75869
X-APPLE-STRUCTURED-LOCATION;VALUE=URI;X-ADDRESS=HfBK Dresden Güntzstrasse 34 Dresden 01307;X-APPLE-RADIUS=500;X-TITLE=Güntzstrasse 34:geo:13.75869,51.05274
END:VEVENT
BEGIN:VEVENT
DTSTART;VALUE=DATE:20171030
DTEND;VALUE=DATE:20171031
DTSTAMP:20260422T201814
CREATED:20170904T081711Z
LAST-MODIFIED:20171024T175905Z
UID:10000946-1509321600-1509407999@www.restauratoren.de
SUMMARY:Call for Papers: 3D – Durchblick oder Datenmüll?
DESCRIPTION:Der VDR organisiert am 2. und 3. März 2018 mit freundlicher Unterstützung der Hochschule für Bildende Künste Dresden die Tagung „3D – Durchblick oder Datenmüll? Dreidimensionale Scan-Verfahren in der Konservierung Restaurierung“. Abgabetermin für Abstracts ist der 30. Oktober 2017.\n\nWelche Chancen bietet ein 3D-Modell für die Arbeit der Restauratoren? Oder ersetzen die digitalen Medien unsere Bemühungen um den Erhalt der originalen Substanz? Diesen Fragen soll im Rahmen einer Fachtagung des VDR mit Unterstützung der HfBK Dresden zur Anwendung von 3D-Verfahren in unserem Berufsfeld nachgegangen werden. In Vorträgen zu den technischen Verfahren selbst werden Vor- und Nachteile bewertet und technische Möglichkeiten ausgelotet. Die unterschiedlichen Einsatzgebiete von der Dokumentation dreidimensionaler Objekte über virtuelle Rekonstruktionen bis hin zum Monitoring sollen anhand erfolgreicher Anwendungen beispielhaft vorgestellt werden. Ein Workshop zur Herstellung eines 3D-Modells mit Hilfe einfacher Tools wird angeboten. \nHier geht es zum Call for Papers \nBildnachweis: 3D Modell der Stifterfigur Reglindis des Naumburger Meisters\, 13. Jh.\, Naumburger Dom\, bearbeitetes Modell der Linsinger ZT GmbH\, 2017
URL:https://www.restauratoren.de/termin/3d-durchblick-oder-datenmuell/
LOCATION:HfBK Dresden\, Güntzstrasse 34\, Dresden\, 01307
CATEGORIES:Call for Papers,VDR-Veranstaltung
ATTACH;FMTTYPE=image/png:https://www.restauratoren.de/wp-content/uploads/2017/09/3dTagung2018klein.png
GEO:51.05274;13.75869
X-APPLE-STRUCTURED-LOCATION;VALUE=URI;X-ADDRESS=HfBK Dresden Güntzstrasse 34 Dresden 01307;X-APPLE-RADIUS=500;X-TITLE=Güntzstrasse 34:geo:13.75869,51.05274
END:VEVENT
BEGIN:VEVENT
DTSTART;TZID=UTC:20170529T190000
DTEND;TZID=UTC:20170529T203000
DTSTAMP:20260422T201814
CREATED:20170510T061102Z
LAST-MODIFIED:20170510T061102Z
UID:10000917-1496084400-1496089800@www.restauratoren.de
SUMMARY:Dresdner Restauratorengespräche - Vortrag von  Dr. phil. h.c. Jürgen Pursche
DESCRIPTION:In der Reihe der Dresdner Restauratorengespräche referiert Dr. phil. h.c. Jürgen Pursche am 29.05.2017 um 19 Uhr zum Thema „Die illusionäre Verwendung von Farbmitteln und Werkstoffen – Beobachtungen zur Materialität historischer Architekturgestaltung“. \n\nZum Referenten:\nHerr Jürgen Pursche studierte Angewandte Kunst\, Kunstgeschichte und Restaurierung. Während seiner Ausbildung zum Restaurator lernte er in Halle / Saale im Institut für Denkmalpflege unter Kon-rad Riemann. Viele Jahre war er freiberuflich tätig vor allem in Zusammenarbeit mit den Restaurie-rungswerkstätten des Bundesdenkmalamtes Wien / Dr. Manfred Koller. Ab 1979 bis zu seiner Pensi-onierung 2008 leitete er die Restaurierungswerkstatt\, Abteilung Wandmalerei und Architekturpoly-chromie am Bayerischen Landesamt für Denkmalpflege. Es folgte 2008 bis 2009 die Verwaltungspro-fessur an der Hochschule für Angewandte Wissenschaft und Kunst Hildesheim Holzminden Göttingen (Fakultät Erhaltung von Kulturgut\, Konservierung und Restaurierung von Wandmalerei und Architek-turoberfläche). 2014 wurde Herrn Pursche der Titel Dr. phil. h.c. durch die Hochschule für Bildende Künste Dresden verliehen. Er ist Mitglied der Arbeitsgruppe „Konservierung und Restaurierung von Wandmalerei und Architekturoberfläche“ des Deutschen Nationalkomitees von ICOMOS. Neben etli-chen Lehraufträgen bereichert Herr Pursche das Gebiet der Kunsttechnologie\, Konservierung und Restaurierung von Wandmalerei und Architekturoberfläche vom Mittelalter bis zur Neuzeit mit zahl-reichen\, zumeist fundamentalen Veröffentlichungen. \nWir freuen uns auf Ihr Kommen ! \nStudiengang Kunsttechnologie\, Konservierung und Restaurierung von Kunst- und Kulturgut\nHochschule für Bildende Künste Dresden\nKontakt: schulze@hfbk-dresden.de \nZeit und Ort:\nMontag\, 29. Mai 2017\, 19:00 Uhr\nHörsaal 222\, Hochschulgebäude Güntzstrasse 34\, 01307 Dresden
URL:https://www.restauratoren.de/termin/dresdner-restauratorengespraeche-vortrag-von-dr-phil-h-c-juergen-pursche/
LOCATION:HfBK Dresden\, Güntzstrasse 34\, Dresden\, 01307
GEO:51.05274;13.75869
X-APPLE-STRUCTURED-LOCATION;VALUE=URI;X-ADDRESS=HfBK Dresden Güntzstrasse 34 Dresden 01307;X-APPLE-RADIUS=500;X-TITLE=Güntzstrasse 34:geo:13.75869,51.05274
END:VEVENT
END:VCALENDAR