BEGIN:VCALENDAR
VERSION:2.0
PRODID:-//Verband der Restauratoren VDR - ECPv6.15.15//NONSGML v1.0//EN
CALSCALE:GREGORIAN
METHOD:PUBLISH
X-WR-CALNAME:Verband der Restauratoren VDR
X-ORIGINAL-URL:https://www.restauratoren.de
X-WR-CALDESC:Veranstaltungen für Verband der Restauratoren VDR
REFRESH-INTERVAL;VALUE=DURATION:PT1H
X-Robots-Tag:noindex
X-PUBLISHED-TTL:PT1H
BEGIN:VTIMEZONE
TZID:Europe/Helsinki
BEGIN:DAYLIGHT
TZOFFSETFROM:+0200
TZOFFSETTO:+0300
TZNAME:EEST
DTSTART:20190331T010000
END:DAYLIGHT
BEGIN:STANDARD
TZOFFSETFROM:+0300
TZOFFSETTO:+0200
TZNAME:EET
DTSTART:20191027T010000
END:STANDARD
BEGIN:DAYLIGHT
TZOFFSETFROM:+0200
TZOFFSETTO:+0300
TZNAME:EEST
DTSTART:20200329T010000
END:DAYLIGHT
BEGIN:STANDARD
TZOFFSETFROM:+0300
TZOFFSETTO:+0200
TZNAME:EET
DTSTART:20201025T010000
END:STANDARD
BEGIN:DAYLIGHT
TZOFFSETFROM:+0200
TZOFFSETTO:+0300
TZNAME:EEST
DTSTART:20210328T010000
END:DAYLIGHT
BEGIN:STANDARD
TZOFFSETFROM:+0300
TZOFFSETTO:+0200
TZNAME:EET
DTSTART:20211031T010000
END:STANDARD
END:VTIMEZONE
BEGIN:VEVENT
DTSTART;VALUE=DATE:20200904
DTEND;VALUE=DATE:20200905
DTSTAMP:20260424T152505
CREATED:20200825T093312Z
LAST-MODIFIED:20200825T093356Z
UID:10001228-1599177600-1599263999@www.restauratoren.de
SUMMARY:Landesgruppentreffen Sachsen-Anhalt
DESCRIPTION:Die Landesgruppe Sachsen-Anhalt lädt ein zu ihrem nächsten Landesgruppentreffen am 04.09.2020. Ort des Treffens ist das Kloster Michaelstein in Blankenburg (Harz).\n \nTagesordnung 04.09.2020\n10:00 Uhr: Begrüßung in den Räumen der Kulturstiftung Sachsen-Anhalt\, Kloster Michaelstein\n10.15 Uhr: Themen \n\nBeitritt von Restauratoren in die Ingenieurkammer (Kerstin Klein)\nBericht von der Vorstandssitzung am 21. Juni 2020 (Annegret Philipsen)\nStand Biozid-Verordnung (Robert Hartmann)\nEuropäischer Tag der Restaurierung 2020 (Susanne Gerlach)\nFachkommission Restauratorengesetz (Dr. Albrecht Pohlmann)\nVerschiedenes:\nAuswirkungen der Pandemie\nAusblick auf Wahl des neuen Vorstandes der Landesgruppe 2021\n\n13:00 Uhr: Mittagessen im Kloster (Selbstzahler)\n14:00 Uhr: Führung durch die Gartenanlage\nCa. 15.30 Uhr: Ende der Veranstaltung \nAdresse:\nKloster Michaelstein\nMichaelstein 15\n38889 Blankenburg (Harz) \nUm planen zu können erbitten wir Ihre Teilnahmebestätigung bis spätestens 31. Juli 2020 per mail (bitte an: annegret.philipsen(at)gmx.de). Besten Dank! \nMit freundlichen Grüßen\,\nVorstand der LG Sachsen-Anhalt\nAnnegret Philipsen\, Susanne Gerlach\, Kerstin Klein
URL:https://www.restauratoren.de/termin/landesgruppentreffen-sachsen-anhalt-2/
LOCATION:Kloster Michaelstein\, Michaelstein 15\, Blankenburg\, 38889\, Deutschland
CATEGORIES:Landesgruppe Sachsen-Anhalt,VDR-Veranstaltung
ATTACH;FMTTYPE=image/jpeg:https://www.restauratoren.de/wp-content/uploads/2017/02/SaAnhaltKarte.jpg
END:VEVENT
END:VCALENDAR