BEGIN:VCALENDAR
VERSION:2.0
PRODID:-//Verband der Restauratoren VDR - ECPv6.15.15//NONSGML v1.0//EN
CALSCALE:GREGORIAN
METHOD:PUBLISH
X-WR-CALNAME:Verband der Restauratoren VDR
X-ORIGINAL-URL:https://www.restauratoren.de
X-WR-CALDESC:Veranstaltungen für Verband der Restauratoren VDR
REFRESH-INTERVAL;VALUE=DURATION:PT1H
X-Robots-Tag:noindex
X-PUBLISHED-TTL:PT1H
BEGIN:VTIMEZONE
TZID:Europe/Paris
BEGIN:DAYLIGHT
TZOFFSETFROM:+0100
TZOFFSETTO:+0200
TZNAME:CEST
DTSTART:20220327T010000
END:DAYLIGHT
BEGIN:STANDARD
TZOFFSETFROM:+0200
TZOFFSETTO:+0100
TZNAME:CET
DTSTART:20221030T010000
END:STANDARD
BEGIN:DAYLIGHT
TZOFFSETFROM:+0100
TZOFFSETTO:+0200
TZNAME:CEST
DTSTART:20230326T010000
END:DAYLIGHT
BEGIN:STANDARD
TZOFFSETFROM:+0200
TZOFFSETTO:+0100
TZNAME:CET
DTSTART:20231029T010000
END:STANDARD
BEGIN:DAYLIGHT
TZOFFSETFROM:+0100
TZOFFSETTO:+0200
TZNAME:CEST
DTSTART:20240331T010000
END:DAYLIGHT
BEGIN:STANDARD
TZOFFSETFROM:+0200
TZOFFSETTO:+0100
TZNAME:CET
DTSTART:20241027T010000
END:STANDARD
BEGIN:DAYLIGHT
TZOFFSETFROM:+0100
TZOFFSETTO:+0200
TZNAME:CEST
DTSTART:20250330T010000
END:DAYLIGHT
BEGIN:STANDARD
TZOFFSETFROM:+0200
TZOFFSETTO:+0100
TZNAME:CET
DTSTART:20251026T010000
END:STANDARD
END:VTIMEZONE
BEGIN:VTIMEZONE
TZID:UTC
BEGIN:STANDARD
TZOFFSETFROM:+0000
TZOFFSETTO:+0000
TZNAME:UTC
DTSTART:20170101T000000
END:STANDARD
END:VTIMEZONE
BEGIN:VEVENT
DTSTART;TZID=Europe/Paris:20240926T180000
DTEND;TZID=Europe/Paris:20240927T170000
DTSTAMP:20260425T054235
CREATED:20240626T061838Z
LAST-MODIFIED:20240626T061838Z
UID:10001920-1727373600-1727456400@www.restauratoren.de
SUMMARY:Symposium: Anna Dorothea Therbusch im Kontext Künstlerinnen und Künstler des 18. Jhs in Berlin und Europa
DESCRIPTION:Buchpräsentation und Symposium am 26. und 27. September 2024\nGemäldegalerie – Staatliche Museen zu Berlin \nDer Berliner Malerin Anna Dorothea Therbusch (1721–1782) gelang im 18. Jahrhundert eine bemerkenswerte internationale Karriere mit Stationen in Stuttgart\, Mannheim und Paris. Dort wurde sie in die Académie royale aufgenommen und stellte im Salon aus. Seit 1769 zurück in ihrer Heimatstadt\, wurde Therbusch zu einer gefragten Porträtistin der Berliner Gesellschaft und arbeitete für den russischen Zarenhof sowie das preußische Königshaus. \nDas Fachsymposium bildet den Abschluss eines zweijährigen kunsthistorischen und kunsttechnologischen Forschungs- und Publikationsprojekts der Berliner Gemäldegalerie zu Therbuschs Werken in den öffentlichen Sammlungen Berlins und Brandenburgs. Es dient dazu\, die Forschenden zusammenzuführen\, die gewonnen Ergebnisse zu teilen und weitere Forschungsperspektiven aufzuzeigen. \nTagungsprogramm und Anmeldung auf der Website der Staatlichen Museen zu Berlin: \nhttps://www.smb.museum/museen-einrichtungen/kulturforum/veranstaltungen/detail/anna-dorothea-therbusch-im-kontext-2024-09-26-180000-144483/
URL:https://www.restauratoren.de/termin/symposium-anna-dorothea-therbusch-im-kontext-kuenstlerinnen-und-kuenstler-des-18-jhs-in-berlin-und-europa/
LOCATION:Kulturforum Berlin\, Matthäikirchplatz\, Berlin\, 10785\, Deutschland
CATEGORIES:Externe Veranstaltung
ATTACH;FMTTYPE=image/jpeg:https://www.restauratoren.de/wp-content/uploads/2024/06/Therbusch_Symposium_.jpg
END:VEVENT
BEGIN:VEVENT
DTSTART;VALUE=DATE:20230928
DTEND;VALUE=DATE:20230929
DTSTAMP:20260425T054235
CREATED:20230829T075942Z
LAST-MODIFIED:20230829T082657Z
UID:10001770-1695859200-1695945599@www.restauratoren.de
SUMMARY:Das grüne Museum Nachhaltigkeit und Risiko – Die ökologische Transformation in Museen & Depots
DESCRIPTION:Wachstum und permanente Steigerungen im Kunst- und Kulturbetrieb stoßen immer häufiger auf Kritik. Angesichts der drohenden\, globalen Klimakatastrophe tragen die Museen mit ihren Inhalten gewiss zum öffentlichen Diskurs rund um den Umwelt- und Klimaschutz bei. \nDurch ihre eigene schädliche Klimabilanz sind die Museen jedoch Teil des Problems und befinden sich hier in einem Dilemma. Jedoch sind einige Akteure in den deutschen Kulturbetrieben aktiv geworden. Im Rahmen der Veranstaltungsreihe Das grüne Museum wollen wir über diese Initiativen zum Klimaschutz berichten. Es geht darum\, den Kulturbetrieb und die kulturelle Infrastruktur zu erhalten. Wir wollen über die Dringlichkeit ökologischer Transformation diskutieren\, also den sog. „Green New Deal für Museen und Depots“. \nHier sind nicht nur nachhaltige Museumsbauten ein wichtiges Thema. Es ist auch entscheidend zu wissen\, was ein energieeffizientes Museum oder Depot ist oder wie Museen und Depots eine CO2-Bilanz erstellen. Es fehlt aktuell ein klarer Blick auf die Klimaschutz- oder Nachhaltigkeitsziele in Museen und Depots. Die Veranstaltungsreihe Das grüne Museum hat es sich zum Ziel gesetzt\, die spezifischen Bedingungen der Museen und Ausstellungshäuser gemeinsam zu betrachten\, um daraus Handlungsfelder und konkrete Ziele ableiten zu lassen. \nDas grüne Museum bietet Ihnen einen hohen Praxisbezug und eine Plattform der kurzen Wege. Treffen Sie nicht nur Personen aus Museen\, sondern auch aus Wirtschaft\, Verwaltung\, Wissenschaft und Forschung. \nNutzen Sie die Gelegenheit und informieren Sie sich vor Ort an nur einem Tag über die Möglichkeiten von Klimaschutzzielen und Gefährdungsbeurteilungen sowie neue Nachhaltigkeitskonzepte für den Museums- und Depotalltag. Themenschwerpunkte: \n\nThe Green New Deal für Museen\nNachhaltigkeit im Museumsbau\nEnergy Efficient Storage\nPreventive Conservation\nWie stellen Museen eine Co2 Bilanz auf\n\nProgramm & Tickets: www.das-gruene-museum.de \nMitglieder des VDR erhalten 20 % Rabatt auf die reguläre Teilnahmegebühr. Hierzu muss bei Anmeldung lediglich der Rabattcode angegeben werden. Rabattcode: DGM-VDR \n  \n \nTermine: \n28.09.2023 Berlin\n18.10.2023 Köln\n07.11.2023 München
URL:https://www.restauratoren.de/termin/das-gruene-museum-nachhaltigkeit-und-risiko-die-oekologische-transformation-in-museen-depots/
LOCATION:Kulturforum Berlin\, Matthäikirchplatz\, Berlin\, 10785\, Deutschland
CATEGORIES:Externe Veranstaltung
ATTACH;FMTTYPE=image/jpeg:https://www.restauratoren.de/wp-content/uploads/2023/08/DGM-Anzeige_VDR.jpg
END:VEVENT
BEGIN:VEVENT
DTSTART;VALUE=DATE:20180619
DTEND;VALUE=DATE:20180621
DTSTAMP:20260425T054235
CREATED:20180403T153612Z
LAST-MODIFIED:20180403T153612Z
UID:10001005-1529366400-1529539199@www.restauratoren.de
SUMMARY:Konferenz "Quo Vadis Konservierungswissenschaften"
DESCRIPTION:Die Deutsche Bundesstiftung Umwelt nimmt das Europäische Kulturerbejahr 2018 zum Anlass\, gemeinsam mit Partnern aus dem Bereich der Konservierung sowohl einen Rückblick\, als auch eine Aufarbeitung des aktuellen Status quo der Konservierungswissenschaft zu wagen.\n\nZusammen mit den Teilnehmern werden auf der Tagung vom 19.-20.06.2018 Richtungen aufgezeigt\, in die sich die Konservierungsforschung in Zukunft bewegt und Themen ermittelt\, die im Mittelpunkt der zukünftigen Forschungen und der Förderung stehen sollten. Die Veranstaltung findet in Kooperation mit dem Deutschen Nationalkomitee für Denkmalschutz und der Stiftung Preußischer Kulturbesitz statt. \nAnmeldung bis 8. Juni 2018\nWeitere Informationen zur Tagung
URL:https://www.restauratoren.de/termin/konferenz-quo-vadis-konservierungswissenschaften/
LOCATION:Kulturforum Berlin\, Matthäikirchplatz\, Berlin\, 10785\, Deutschland
CATEGORIES:Sharing Heritage
END:VEVENT
END:VCALENDAR