BEGIN:VCALENDAR
VERSION:2.0
PRODID:-//Verband der Restauratoren VDR - ECPv6.15.15//NONSGML v1.0//EN
CALSCALE:GREGORIAN
METHOD:PUBLISH
X-WR-CALNAME:Verband der Restauratoren VDR
X-ORIGINAL-URL:https://www.restauratoren.de
X-WR-CALDESC:Veranstaltungen für Verband der Restauratoren VDR
REFRESH-INTERVAL;VALUE=DURATION:PT1H
X-Robots-Tag:noindex
X-PUBLISHED-TTL:PT1H
BEGIN:VTIMEZONE
TZID:UTC
BEGIN:STANDARD
TZOFFSETFROM:+0000
TZOFFSETTO:+0000
TZNAME:UTC
DTSTART:20190101T000000
END:STANDARD
END:VTIMEZONE
BEGIN:VEVENT
DTSTART;VALUE=DATE:20200330
DTEND;VALUE=DATE:20200331
DTSTAMP:20260426T005224
CREATED:20190719T071149Z
LAST-MODIFIED:20190719T071149Z
UID:10001222-1585526400-1585612799@www.restauratoren.de
SUMMARY:Tag der Restaurierung im Joanneum
DESCRIPTION:Der nächste Tag der Restaurierung im Universalmuseum Joanneum in Graz findet am 30.03.2020 statt. Der Tag der Restaurierung ist ein etabliertes Forum für Fachleute und Interessierte\, aber auch eine spannende Veranstaltung für alle an Konservierung\, Restaurierung und Kulturguterhaltung interessierten Gäste. Fundierte Vorträge rund um aktuelle Themen\, neue Erkenntnisse und außergewöhnliche Fallbeispiele widerspiegeln die Vielfalt an Aufgaben und Herausforderungen der konservatorisch-restauratorischen Praxis in Museen und für Privatsammlungen. \nJoanneumsviertel\, Auditorium\, 8010 Graz\nMontag\, 30. März 2020\, 09:15–17:15 Uhr\nTeilnahmegebühr: 30 € (Kassa geöffnet ab 08:45 Uhr)\nSchüler/innen\, Studierende bzw. mit Joanneumskarte: 15 €\nInformation: Laura Schick +43 (664) 8017 9701\nAnmeldung: laura.schick@museum-joanneum.at \nWeitere Informationen zum Programm
URL:https://www.restauratoren.de/termin/tag-der-restaurierung-im-joanneum-2/
LOCATION:Universalmuseum Joanneum\, Joanneumsviertel\, Graz\, 8010\, Österreich
CATEGORIES:Externe Veranstaltung
GEO:47.0683391;15.4380339
X-APPLE-STRUCTURED-LOCATION;VALUE=URI;X-ADDRESS=Universalmuseum Joanneum Joanneumsviertel Graz 8010 Österreich;X-APPLE-RADIUS=500;X-TITLE=Joanneumsviertel:geo:15.4380339,47.0683391
END:VEVENT
END:VCALENDAR